Workbook

Sheet Materialliste
B3: Sektion Kaiserslautern des Deutschen Alpenvereins | P3: Rechnungs-Nummer : | R3: /2026
B4: E-Mail: materialverleih@dav-kaiserslautern.de
B6: Die Materialausgabe erfolgen wochenweise ab dem Dienstag der jeweils gebuchten Woche während der regulären Öffnungszeiten.
B7: Bitte melde deinen Materialbedarf möglichst zwei Wochen im Voraus per Email (s.o.) an.
B8: Die Rückgabe erfolgt ebenfalls zu den regulären Öffnungszeiten der Kletterhalle.
B9: Sollte es in den Ferien oder durch Urlaub zu Einschränkungen kommen, kannst du das Material in Ausnahmefällen auch nach individueller Absprache mit dem Material- oder
B10: Ausbildungsreferat erhalten.
B11: Bitte bring deinen Mitgliedsausweis zur Ausleihe mit.
B13: Die Öffnungszeiten sind:
B15: Mo - Fr.: 17:00 - 22:00 Uhr
B16: Do. zusätzlich: 09:00 - 14:00 Uhr
B17: Sa.: geschlossen
B18: So. & Feiertage: 15:00 - 22:00 Uhr
B20: Ausrüstungsmiete zur Abholung
C21: bitte die grün hinterlegten Felder ausfüllen
B23: Übungsleiter/ Leitung:
B24: Vorname: | K24: Name:
B25: Geb.-Tag: | K25: Mitgliedsnummer:
B26: Tel.-Nr.: | K26: E-Mail:
B28: Begleitpersonen/ Übungsleiter:
B29: Vorname: | K29: Name:
B30: Geb.-Tag: | K30: Mitgliedsnummer:
B33: Informationen zur Veranstaltung:
B34: Name der Veranstaltung
B35: Datum der Veranstaltung
B37: Informationen zu den Teilnehmer*innen
B38: Anzahl der Teilnehmer*innen
B41: Hinweise für die Ausleihe:
B42: Ich miete von der Sektion Kaiserslautern die nachfolgend aufgeführten Gegenstände. Ich weiß, dass die Gebühr keine Benutzungs-, sondern eine Mietgebühr ist, die auch im Nachhinein (bei Nichtabholung) erhoben werden kann. Ich hafte für Beschädigung durch unsachgemässen Gebrauch oder Verlust der ausgeliehenen Gegenstände. In diesem Falle wird mir der Wiederbeschaffungswert des Leihgegenstandes in Rechnung gestellt . Bei Unfall oder Nichtfunktion der Gegenstände verzichte ich auf die Geltendmachung von Schadenersatzansprüchen gegen die Sektion Kaiserslautern, soweit der Schaden nicht durch bestehende Haftpflichtversicherungen abgedeckt ist und es sich um leichte Fahrlässigkeit handelt. Bei der Abholung bzw. vor Gebrauch überprüfe ich die Gegenstände auf Funktionsfähigkeit oder etwaige Mängel. Bei der Rückgabe bin ich verpflichtet, in der Mietzeit aufgetretene Mängel, Beschädigungen oder besondere Vorkommnisse unaufgefordert mitzuteilen. Das Material muss sauber und in ordnungsgemässen Zustand zurück gegeben werden. Bei früherer Rückgabe besteht kein Anspruch auf Rückzahlung der Mietgebühr. Der Leihvertrag gilt erst dann als aufgelöst, wenn seitens der Sektion Mängelfreiheit am entliehenen Gegenstand festgestellt wurde.
B43: Die ausgehängte Datenschutzerklärung habe ich gelesen und erkläre mich damit einverstanden.
C44: Abholung: | G44: Rückgabe:
D45: Datum | J45: Datum
C47: Kostenstelle:
G48: Unterschrift Übungsleiter:
C51: Tage: | E51: =J44-D44 -> 0 | G51: Abholung: | J51: =D44 -> 0 | N51: Rückgabe: | P51: =J44 -> 0
J52: Datum | P52: Datum
C57: Artikel-Nummer (wird ausgefüllt) | D57: Gegenstand | N57: Bemerkungen
D58: Crashpad | J58: 0
C59: Alpinklettern
D60: Sicherungsgeräte
D61: 0 | E61: Smart -einfach- | F61: 0 | G61: Jul² | H61: 0 | I61: Pinch | J61: 0 | K61: Reverso | L61: 0 | M61: GriGri
D62: 0 | E62: Tuber-doppelt- | F62: 0 | G62: Mega-Jul | H62: 0 | I62: Neox
K63: bitte Menge auswählen
D64: Karabiner
D65: 0 | E65: HMS mit Ball-lock | F65: 0 | G65: HMS Safe-Biner | J65: 0 | K65: oval Safe-Biner
D66: 0 | E66: HMS Schrauber | F66: 0 | G66: kleiner Schrauber | J66: 0 | K66: Schnapper blau
D67: 0 | E67: HMS Schrauber Petzl
D68: 0 | E68: Edelrid Schrauber (kein HMS)
K69: bitte Menge auswählen
D70: Bremsassistent
D71: 0 | E71: Ohm 2 | F71: 0 | G71: Ohmega | K71: bitte Menge auswählen
C78: Artikel-Nummer (wird ausgefüllt) | D78: Gegenstand | N78: Bemerkungen
D79: Expressschlingen
D80: 0 | E80: Set(s) a 6 Stk
K81: bitte Menge auswählen
D82: Helm
D83: 0 | E83: universal | F83: 0 | G83: (M-L) | H83: 0 | I83: Edelrid weiß/grün
K84: bitte Menge auswählen
D85: Bandschlingen
D86: 0 | E86: 30 cm Dyneema | F86: 0 | G86: 60 cm Dyneema rot/weiß | J86: 0 | K86: 120 cm Dyneema blau
D87: 0 | E87: 30 cm Aramid | F87: 0 | G87: 60 cm Aramid grün | J87: 0 | K87: 120 cm Aramid blau
K88: bitte Größe auswählen
D89: Einfachseile
D90: 0 | E90: 60 m Einfachseil Edelrid hellgrün
D91: 0 | E91: 70 m Einfachseil Petzl 9,8mm blau/weiß kariet
K92: bitte Größe auswählen
D93: Halbseile
D94: 0 | E94: 50 m Halbseile Mammut 3 fachzertifiziert
D95: 0 | E95: 60 m Halbseile Mammut 3 fachzertifiziert
K96: bitte Größe auswählen
D97: Seilsäcke
D98: 0 | E98: Edelrid schwarz
K99: bitte Größe auswählen
D100: Klettergurt Sitzgurt
D101: 0 | E101: mittel - Edelrid grün | H101: 0 | I101: groß - Edelrid blau
K102: bitte Größe auswählen
D103: Klettergurt Komplettgurt Kind
D104: 0 | E104: XXS | F104: 0 | G104: XS
K105: bitte Größe auswählen
D106: Kletterschuhe (von Größe 26-51)
D107: 0 | E107: Größe | F107: 0 | G107: Menge
K108: bitte Größe auswählen
D109: Klemmkeile mit Klemmkeilentferner
D110: 0 | E110: Sets a 10 Stk. Stopper | H110: 0 | I110: Sets a 8 Stk. Hexentricks
K111: bitte Menge auswählen
D112: Friends
D113: 0 | E113: mit Karabiner&Schlingung
E114: Set a 7 Stk. | K114: bitte Größe auswählen
D115: Steigklemmen
D116: 0 | E116: Jumar -ohne Griff- | F116: 0 | G116: Jumar -mit Griff-
K117: bitte Menge auswählen
D118: Seilrollen
D119: 0 | E119: ohne Rücklaufsperre | H119: 0 | I119: mit Rücklaufsperre (nicht lösbar)
D120: 0 | E120: Mini Traxtion (lösbare Rücklaufsperre) | K120: bitte Menge auswählen
D121: Reepschnur
D122: 0 | E122: 6 mm | F122: 0 | G122: 8 mm
K123: bitte Menge auswählen
C124: Klettersteigsets
D125: Klettersteigsets
D126: 0 | E126: Edelrid | F126: 0 | G126: Mammut
...

Sheet Auswertung
A1: Übersicht
A3: Kategorie | B3: Artikel | C3: Menge | D3: Bemerkung
A4: Sicherungsgeräte | B4: Smart -einfach- | C4: =INDEX(Materialliste!D:D,MATCH(B4,Materialliste!E:E,0)) -> 0 | D4: =IF(COUNTIF($A$4:A4,IF(A4<>"",A4,B4))>1,"",IFERROR(IF(INDEX(Materialliste!N:N,MATCH(IF(A4<>"",A4,B4),Materialliste!D:D,0))=0,"",INDEX(Materialliste!N:N,MATCH(IF(A4<>"",A4,B4),Materialliste!D:D,0))),""))
A5: Sicherungsgeräte | B5: Tuber-doppelt- | C5: =INDEX(Materialliste!D:D,MATCH(B5,Materialliste!E:E,0)) -> 0 | D5: =IF(COUNTIF($A$4:A5,IF(A5<>"",A5,B5))>1,"",IFERROR(IF(INDEX(Materialliste!N:N,MATCH(IF(A5<>"",A5,B5),Materialliste!D:D,0))=0,"",INDEX(Materialliste!N:N,MATCH(IF(A5<>"",A5,B5),Materialliste!D:D,0))),""))
A6: Sicherungsgeräte | B6: Jul² | C6: =INDEX(Materialliste!F:F,MATCH(B6,Materialliste!G:G,0)) -> 0 | D6: =IF(COUNTIF($A$4:A6,IF(A6<>"",A6,B6))>1,"",IFERROR(IF(INDEX(Materialliste!N:N,MATCH(IF(A6<>"",A6,B6),Materialliste!D:D,0))=0,"",INDEX(Materialliste!N:N,MATCH(IF(A6<>"",A6,B6),Materialliste!D:D,0))),""))
A7: Sicherungsgeräte | B7: Mega-Jul | C7: =INDEX(Materialliste!F:F,MATCH(B7,Materialliste!G:G,0)) -> 0 | D7: =IF(COUNTIF($A$4:A7,IF(A7<>"",A7,B7))>1,"",IFERROR(IF(INDEX(Materialliste!N:N,MATCH(IF(A7<>"",A7,B7),Materialliste!D:D,0))=0,"",INDEX(Materialliste!N:N,MATCH(IF(A7<>"",A7,B7),Materialliste!D:D,0))),""))
A8: Sicherungsgeräte | B8: Pinch | C8: =INDEX(Materialliste!H:H,MATCH(B8,Materialliste!I:I,0)) -> 0 | D8: =IF(COUNTIF($A$4:A8,IF(A8<>"",A8,B8))>1,"",IFERROR(IF(INDEX(Materialliste!N:N,MATCH(IF(A8<>"",A8,B8),Materialliste!D:D,0))=0,"",INDEX(Materialliste!N:N,MATCH(IF(A8<>"",A8,B8),Materialliste!D:D,0))),""))
A9: Sicherungsgeräte | B9: Neox | C9: =INDEX(Materialliste!H:H,MATCH(B9,Materialliste!I:I,0)) -> 0 | D9: =IF(COUNTIF($A$4:A9,IF(A9<>"",A9,B9))>1,"",IFERROR(IF(INDEX(Materialliste!N:N,MATCH(IF(A9<>"",A9,B9),Materialliste!D:D,0))=0,"",INDEX(Materialliste!N:N,MATCH(IF(A9<>"",A9,B9),Materialliste!D:D,0))),""))
A10: Sicherungsgeräte | B10: Reverso | C10: =INDEX(Materialliste!J:J,MATCH(B10,Materialliste!K:K,0)) -> 0 | D10: =IF(COUNTIF($A$4:A10,IF(A10<>"",A10,B10))>1,"",IFERROR(IF(INDEX(Materialliste!N:N,MATCH(IF(A10<>"",A10,B10),Materialliste!D:D,0))=0,"",INDEX(Materialliste!N:N,MATCH(IF(A10<>"",A10,B10),Materialliste!D:D,0))),""))
A11: Sicherungsgeräte | B11: GriGri | C11: =INDEX(Materialliste!L:L,MATCH(B11,Materialliste!M:M,0)) -> 0 | D11: =IF(COUNTIF($A$4:A11,IF(A11<>"",A11,B11))>1,"",IFERROR(IF(INDEX(Materialliste!N:N,MATCH(IF(A11<>"",A11,B11),Materialliste!D:D,0))=0,"",INDEX(Materialliste!N:N,MATCH(IF(A11<>"",A11,B11),Materialliste!D:D,0))),""))
B12: Crashpad | C12: =INDEX(Materialliste!J:J,MATCH(B12,Materialliste!D:D,0)) -> 0 | D12: =IF(COUNTIF($A$4:A12,IF(A12<>"",A12,B12))>1,"",IFERROR(IF(INDEX(Materialliste!N:N,MATCH(IF(A12<>"",A12,B12),Materialliste!D:D,0))=0,"",INDEX(Materialliste!N:N,MATCH(IF(A12<>"",A12,B12),Materialliste!D:D,0))),""))
A13: Karabiner | B13: HMS mit Ball-lock | C13: =INDEX(Materialliste!D:D,MATCH(B13,Materialliste!E:E,0)) -> 0 | D13: =IF(COUNTIF($A$4:A13,IF(A13<>"",A13,B13))>1,"",IFERROR(IF(INDEX(Materialliste!N:N,MATCH(IF(A13<>"",A13,B13),Materialliste!D:D,0))=0,"",INDEX(Materialliste!N:N,MATCH(IF(A13<>"",A13,B13),Materialliste!D:D,0))),""))
A14: Karabiner | B14: HMS Schrauber | C14: =INDEX(Materialliste!D:D,MATCH(B14,Materialliste!E:E,0)) -> 0 | D14: =IF(COUNTIF($A$4:A14,IF(A14<>"",A14,B14))>1,"",IFERROR(IF(INDEX(Materialliste!N:N,MATCH(IF(A14<>"",A14,B14),Materialliste!D:D,0))=0,"",INDEX(Materialliste!N:N,MATCH(IF(A14<>"",A14,B14),Materialliste!D:D,0))),""))
A15: Karabiner | B15: HMS Safe-Biner | C15: =INDEX(Materialliste!F:F,MATCH(B15,Materialliste!G:G,0)) -> 0 | D15: =IF(COUNTIF($A$4:A15,IF(A15<>"",A15,B15))>1,"",IFERROR(IF(INDEX(Materialliste!N:N,MATCH(IF(A15<>"",A15,B15),Materialliste!D:D,0))=0,"",INDEX(Materialliste!N:N,MATCH(IF(A15<>"",A15,B15),Materialliste!D:D,0))),""))
A16: Karabiner | B16: kleiner Schrauber | C16: =INDEX(Materialliste!F:F,MATCH(B16,Materialliste!G:G,0)) -> 0 | D16: =IF(COUNTIF($A$4:A16,IF(A16<>"",A16,B16))>1,"",IFERROR(IF(INDEX(Materialliste!N:N,MATCH(IF(A16<>"",A16,B16),Materialliste!D:D,0))=0,"",INDEX(Materialliste!N:N,MATCH(IF(A16<>"",A16,B16),Materialliste!D:D,0))),""))
A17: Karabiner | B17: oval Safe-Biner | C17: =INDEX(Materialliste!J:J,MATCH(B17,Materialliste!K:K,0)) -> 0 | D17: =IF(COUNTIF($A$4:A17,IF(A17<>"",A17,B17))>1,"",IFERROR(IF(INDEX(Materialliste!N:N,MATCH(IF(A17<>"",A17,B17),Materialliste!D:D,0))=0,"",INDEX(Materialliste!N:N,MATCH(IF(A17<>"",A17,B17),Materialliste!D:D,0))),""))
A18: Karabiner | B18: Schnapper blau | C18: =INDEX(Materialliste!J:J,MATCH(B18,Materialliste!K:K,0)) -> 0
A19: Karabiner | B19: HMS Schrauber Petzl | C19: =INDEX(Materialliste!D:D,MATCH(B19,Materialliste!E:E,0)) -> 0 | D19: =IF(COUNTIF($A$4:A19,IF(A19<>"",A19,B19))>1,"",IFERROR(IF(INDEX(Materialliste!N:N,MATCH(IF(A19<>"",A19,B19),Materialliste!D:D,0))=0,"",INDEX(Materialliste!N:N,MATCH(IF(A19<>"",A19,B19),Materialliste!D:D,0))),""))
A20: Karabiner | B20: Edelrid Schrauber (kein HMS) | C20: =INDEX(Materialliste!D:D,MATCH(B20,Materialliste!E:E,0)) -> 0
A21: Bremsassistent | B21: Ohm 2 | C21: =INDEX(Materialliste!D:D,MATCH(B21,Materialliste!E:E,0)) -> 0 | D21: =IF(COUNTIF($A$4:A21,IF(A21<>"",A21,B21))>1,"",IFERROR(IF(INDEX(Materialliste!N:N,MATCH(IF(A21<>"",A21,B21),Materialliste!D:D,0))=0,"",INDEX(Materialliste!N:N,MATCH(IF(A21<>"",A21,B21),Materialliste!D:D,0))),""))
A22: Bremsassistent | B22: Ohmega | C22: =INDEX(Materialliste!F:F,MATCH(B22,Materialliste!G:G,0)) -> 0 | D22: =IF(COUNTIF($A$4:A22,IF(A22<>"",A22,B22))>1,"",IFERROR(IF(INDEX(Materialliste!N:N,MATCH(IF(A22<>"",A22,B22),Materialliste!D:D,0))=0,"",INDEX(Materialliste!N:N,MATCH(IF(A22<>"",A22,B22),Materialliste!D:D,0))),""))
A23: Expressschlingen | B23: Set(s) a 6 Stk | C23: =INDEX(Materialliste!D:D,MATCH(B23,Materialliste!E:E,0)) -> 0 | D23: =IF(COUNTIF($A$4:A23,IF(A23<>"",A23,B23))>1,"",IFERROR(IF(INDEX(Materialliste!N:N,MATCH(IF(A23<>"",A23,B23),Materialliste!D:D,0))=0,"",INDEX(Materialliste!N:N,MATCH(IF(A23<>"",A23,B23),Materialliste!D:D,0))),""))
A24: Helm | B24: universal | C24: =INDEX(Materialliste!D:D,MATCH(B24,Materialliste!E:E,0)) -> 0 | D24: =IF(COUNTIF($A$4:A24,IF(A24<>"",A24,B24))>1,"",IFERROR(IF(INDEX(Materialliste!N:N,MATCH(IF(A24<>"",A24,B24),Materialliste!D:D,0))=0,"",INDEX(Materialliste!N:N,MATCH(IF(A24<>"",A24,B24),Materialliste!D:D,0))),""))
A25: Helm | B25: (M-L) | C25: =INDEX(Materialliste!F:F,MATCH(B25,Materialliste!G:G,0)) -> 0 | D25: =IF(COUNTIF($A$4:A25,IF(A25<>"",A25,B25))>1,"",IFERROR(IF(INDEX(Materialliste!N:N,MATCH(IF(A25<>"",A25,B25),Materialliste!D:D,0))=0,"",INDEX(Materialliste!N:N,MATCH(IF(A25<>"",A25,B25),Materialliste!D:D,0))),""))
A26: Helm | B26: Edelrid weiß/grün | C26: =INDEX(Materialliste!H:H,MATCH(B26,Materialliste!I:I,0)) -> 0
A27: Bandschlingen | B27: 30 cm Dyneema | C27: =INDEX(Materialliste!D:D,MATCH(B27,Materialliste!E:E,0)) -> 0 | D27: =IF(COUNTIF($A$4:A27,IF(A27<>"",A27,B27))>1,"",IFERROR(IF(INDEX(Materialliste!N:N,MATCH(IF(A27<>"",A27,B27),Materialliste!D:D,0))=0,"",INDEX(Materialliste!N:N,MATCH(IF(A27<>"",A27,B27),Materialliste!D:D,0))),""))
A28: Bandschlingen | B28: 60 cm Dyneema rot/weiß | C28: =INDEX(Materialliste!F:F,MATCH(B28,Materialliste!G:G,0)) -> 0
A29: Bandschlingen | B29: 120 cm Dyneema blau | C29: =INDEX(Materialliste!J:J,MATCH(B29,Materialliste!K:K,0)) -> 0
A30: Bandschlingen | B30: 30 cm Aramid | C30: =INDEX(Materialliste!D:D,MATCH(B30,Materialliste!E:E,0)) -> 0 | D30: =IF(COUNTIF($A$4:A30,IF(A30<>"",A30,B30))>1,"",IFERROR(IF(INDEX(Materialliste!N:N,MATCH(IF(A30<>"",A30,B30),Materialliste!D:D,0))=0,"",INDEX(Materialliste!N:N,MATCH(IF(A30<>"",A30,B30),Materialliste!D:D,0))),""))
A31: Bandschlingen | B31: 60 cm Aramid grün | C31: =INDEX(Materialliste!F:F,MATCH(B31,Materialliste!G:G,0)) -> 0
A32: Bandschlingen | B32: 120 cm Aramid blau | C32: =INDEX(Materialliste!J:J,MATCH(B32,Materialliste!K:K,0)) -> 0
A33: Einfachseile | B33: 60 m Einfachseil Edelrid hellgrün | C33: =INDEX(Materialliste!D:D,MATCH(B33,Materialliste!E:E,0)) -> 0 | D33: =IF(COUNTIF($A$4:A33,IF(A33<>"",A33,B33))>1,"",IFERROR(IF(INDEX(Materialliste!N:N,MATCH(IF(A33<>"",A33,B33),Materialliste!D:D,0))=0,"",INDEX(Materialliste!N:N,MATCH(IF(A33<>"",A33,B33),Materialliste!D:D,0))),""))
A34: Einfachseile | B34: 70 m Einfachseil Petzl 9,8mm blau/weiß kariet | C34: =INDEX(Materialliste!D:D,MATCH(B34,Materialliste!E:E,0)) -> 0 | D34: =IF(COUNTIF($A$4:A34,IF(A34<>"",A34,B34))>1,"",IFERROR(IF(INDEX(Materialliste!N:N,MATCH(IF(A34<>"",A34,B34),Materialliste!D:D,0))=0,"",INDEX(Materialliste!N:N,MATCH(IF(A34<>"",A34,B34),Materialliste!D:D,0))),""))
A35: Halbseile | B35: 50 m Halbseile Mammut 3 fachzertifiziert | C35: =INDEX(Materialliste!D:D,MATCH(B35,Materialliste!E:E,0)) -> 0 | D35: =IF(COUNTIF($A$4:A35,IF(A35<>"",A35,B35))>1,"",IFERROR(IF(INDEX(Materialliste!N:N,MATCH(IF(A35<>"",A35,B35),Materialliste!D:D,0))=0,"",INDEX(Materialliste!N:N,MATCH(IF(A35<>"",A35,B35),Materialliste!D:D,0))),""))
A36: Halbseile | B36: 60 m Halbseile Mammut 3 fachzertifiziert | C36: =INDEX(Materialliste!D:D,MATCH(B36,Materialliste!E:E,0)) -> 0 | D36: =IF(COUNTIF($A$4:A36,IF(A36<>"",A36,B36))>1,"",IFERROR(IF(INDEX(Materialliste!N:N,MATCH(IF(A36<>"",A36,B36),Materialliste!D:D,0))=0,"",INDEX(Materialliste!N:N,MATCH(IF(A36<>"",A36,B36),Materialliste!D:D,0))),""))
A37: Seilsäcke | B37: Edelrid schwarz | C37: =INDEX(Materialliste!D:D,MATCH(B37,Materialliste!E:E,0)) -> 0 | D37: =IF(COUNTIF($A$4:A37,IF(A37<>"",A37,B37))>1,"",IFERROR(IF(INDEX(Materialliste!N:N,MATCH(IF(A37<>"",A37,B37),Materialliste!D:D,0))=0,"",INDEX(Materialliste!N:N,MATCH(IF(A37<>"",A37,B37),Materialliste!D:D,0))),""))
A38: Klettergurt Sitzgurt | B38: mittel - Edelrid grün | C38: =INDEX(Materialliste!D:D,MATCH(B38,Materialliste!E:E,0)) -> 0 | D38: =IF(COUNTIF($A$4:A38,IF(A38<>"",A38,B38))>1,"",IFERROR(IF(INDEX(Materialliste!N:N,MATCH(IF(A38<>"",A38,B38),Materialliste!D:D,0))=0,"",INDEX(Materialliste!N:N,MATCH(IF(A38<>"",A38,B38),Materialliste!D:D,0))),""))
A39: Klettergurt Sitzgurt | B39: groß - Edelrid blau | C39: =INDEX(Materialliste!H:H,MATCH(B39,Materialliste!I:I,0)) -> 0 | D39: =IF(COUNTIF($A$4:A39,IF(A39<>"",A39,B39))>1,"",IFERROR(IF(INDEX(Materialliste!N:N,MATCH(IF(A39<>"",A39,B39),Materialliste!D:D,0))=0,"",INDEX(Materialliste!N:N,MATCH(IF(A39<>"",A39,B39),Materialliste!D:D,0))),""))
A40: Klettergurt Komplettgurt Kind | B40: XXS | C40: =INDEX(Materialliste!D:D,MATCH(B40,Materialliste!E:E,0)) -> 0 | D40: =IF(COUNTIF($A$4:A40,IF(A40<>"",A40,B40))>1,"",IFERROR(IF(INDEX(Materialliste!N:N,MATCH(IF(A40<>"",A40,B40),Materialliste!D:D,0))=0,"",INDEX(Materialliste!N:N,MATCH(IF(A40<>"",A40,B40),Materialliste!D:D,0))),""))
A41: Klettergurt Komplettgurt Kind | B41: XS | C41: =INDEX(Materialliste!F:F,MATCH(B41,Materialliste!G:G,0)) -> 0 | D41: =IF(COUNTIF($A$4:A41,IF(A41<>"",A41,B41))>1,"",IFERROR(IF(INDEX(Materialliste!N:N,MATCH(IF(A41<>"",A41,B41),Materialliste!D:D,0))=0,"",INDEX(Materialliste!N:N,MATCH(IF(A41<>"",A41,B41),Materialliste!D:D,0))),""))
A42: Kletterschuhe (von Größe 26-51) | B42: Menge | C42: =INDEX(Materialliste!F:F,MATCH(B42,Materialliste!G:G,0)) -> 0 | D42: =IF(COUNTIF($A$4:A42,IF(A42<>"",A42,B42))>1,"",IFERROR(IF(INDEX(Materialliste!N:N,MATCH(IF(A42<>"",A42,B42),Materialliste!D:D,0))=0,"",INDEX(Materialliste!N:N,MATCH(IF(A42<>"",A42,B42),Materialliste!D:D,0))),""))
A43: Klemmkeile mit Klemmkeilentferner | B43: Sets a 10 Stk. Stopper | C43: =INDEX(Materialliste!D:D,MATCH(B43,Materialliste!E:E,0)) -> 0 | D43: =IF(COUNTIF($A$4:A43,IF(A43<>"",A43,B43))>1,"",IFERROR(IF(INDEX(Materialliste!N:N,MATCH(IF(A43<>"",A43,B43),Materialliste!D:D,0))=0,"",INDEX(Materialliste!N:N,MATCH(IF(A43<>"",A43,B43),Materialliste!D:D,0))),""))
A44: Klemmkeile mit Klemmkeilentferner | B44: Sets a 8 Stk. Hexentricks | C44: =INDEX(Materialliste!H:H,MATCH(B44,Materialliste!I:I,0)) -> 0 | D44: =IF(COUNTIF($A$4:A44,IF(A44<>"",A44,B44))>1,"",IFERROR(IF(INDEX(Materialliste!N:N,MATCH(IF(A44<>"",A44,B44),Materialliste!D:D,0))=0,"",INDEX(Materialliste!N:N,MATCH(IF(A44<>"",A44,B44),Materialliste!D:D,0))),""))
A45: Friends | B45: mit Karabiner&Schlingung | C45: =INDEX(Materialliste!D:D,MATCH(B45,Materialliste!E:E,0)) -> 0 | D45: =IF(COUNTIF($A$4:A45,IF(A45<>"",A45,B45))>1,"",IFERROR(IF(INDEX(Materialliste!N:N,MATCH(IF(A45<>"",A45,B45),Materialliste!D:D,0))=0,"",INDEX(Materialliste!N:N,MATCH(IF(A45<>"",A45,B45),Materialliste!D:D,0))),""))
A46: Steigklemmen | B46: Jumar -ohne Griff- | C46: =INDEX(Materialliste!D:D,MATCH(B46,Materialliste!E:E,0)) -> 0 | D46: =IF(COUNTIF($A$4:A46,IF(A46<>"",A46,B46))>1,"",IFERROR(IF(INDEX(Materialliste!N:N,MATCH(IF(A46<>"",A46,B46),Materialliste!D:D,0))=0,"",INDEX(Materialliste!N:N,MATCH(IF(A46<>"",A46,B46),Materialliste!D:D,0))),""))
A47: Steigklemmen | B47: Jumar -mit Griff- | C47: =INDEX(Materialliste!F:F,MATCH(B47,Materialliste!G:G,0)) -> 0 | D47: =IF(COUNTIF($A$4:A47,IF(A47<>"",A47,B47))>1,"",IFERROR(IF(INDEX(Materialliste!N:N,MATCH(IF(A47<>"",A47,B47),Materialliste!D:D,0))=0,"",INDEX(Materialliste!N:N,MATCH(IF(A47<>"",A47,B47),Materialliste!D:D,0))),""))
A48: Seilrollen | B48: ohne Rücklaufsperre | C48: =INDEX(Materialliste!D:D,MATCH(B48,Materialliste!E:E,0)) -> 0 | D48: =IF(COUNTIF($A$4:A48,IF(A48<>"",A48,B48))>1,"",IFERROR(IF(INDEX(Materialliste!N:N,MATCH(IF(A48<>"",A48,B48),Materialliste!D:D,0))=0,"",INDEX(Materialliste!N:N,MATCH(IF(A48<>"",A48,B48),Materialliste!D:D,0))),""))
A49: Seilrollen | B49: Mini Traxtion (lösbare Rücklaufsperre) | C49: =INDEX(Materialliste!D:D,MATCH(B49,Materialliste!E:E,0)) -> 0 | D49: =IF(COUNTIF($A$4:A49,IF(A49<>"",A49,B49))>1,"",IFERROR(IF(INDEX(Materialliste!N:N,MATCH(IF(A49<>"",A49,B49),Materialliste!D:D,0))=0,"",INDEX(Materialliste!N:N,MATCH(IF(A49<>"",A49,B49),Materialliste!D:D,0))),""))
A50: Seilrollen | B50: mit Rücklaufsperre (nicht lösbar) | C50: =INDEX(Materialliste!H:H,MATCH(B50,Materialliste!I:I,0)) -> 0 | D50: =IF(COUNTIF($A$4:A50,IF(A50<>"",A50,B50))>1,"",IFERROR(IF(INDEX(Materialliste!N:N,MATCH(IF(A50<>"",A50,B50),Materialliste!D:D,0))=0,"",INDEX(Materialliste!N:N,MATCH(IF(A50<>"",A50,B50),Materialliste!D:D,0))),""))
A51: Reepschnur | B51: 6 mm | C51: =INDEX(Materialliste!D:D,MATCH(B51,Materialliste!E:E,0)) -> 0 | D51: =IF(COUNTIF($A$4:A51,IF(A51<>"",A51,B51))>1,"",IFERROR(IF(INDEX(Materialliste!N:N,MATCH(IF(A51<>"",A51,B51),Materialliste!D:D,0))=0,"",INDEX(Materialliste!N:N,MATCH(IF(A51<>"",A51,B51),Materialliste!D:D,0))),""))
A52: Reepschnur | B52: 8 mm | C52: =INDEX(Materialliste!F:F,MATCH(B52,Materialliste!G:G,0)) -> 0 | D52: =IF(COUNTIF($A$4:A52,IF(A52<>"",A52,B52))>1,"",IFERROR(IF(INDEX(Materialliste!N:N,MATCH(IF(A52<>"",A52,B52),Materialliste!D:D,0))=0,"",INDEX(Materialliste!N:N,MATCH(IF(A52<>"",A52,B52),Materialliste!D:D,0))),""))
A53: Klettersteigsets | B53: Edelrid | C53: =INDEX(Materialliste!D:D,MATCH(B53,Materialliste!E:E,0)) -> 0 | D53: =IF(COUNTIF($A$4:A53,IF(A53<>"",A53,B53))>1,"",IFERROR(IF(INDEX(Materialliste!N:N,MATCH(IF(A53<>"",A53,B53),Materialliste!D:D,0))=0,"",INDEX(Materialliste!N:N,MATCH(IF(A53<>"",A53,B53),Materialliste!D:D,0))),""))
A54: Klettersteigsets | B54: Mammut | C54: =INDEX(Materialliste!F:F,MATCH(B54,Materialliste!G:G,0)) -> 0 | D54: =IF(COUNTIF($A$4:A54,IF(A54<>"",A54,B54))>1,"",IFERROR(IF(INDEX(Materialliste!N:N,MATCH(IF(A54<>"",A54,B54),Materialliste!D:D,0))=0,"",INDEX(Materialliste!N:N,MATCH(IF(A54<>"",A54,B54),Materialliste!D:D,0))),""))
A55: 1.Hilfe Packs-Tasche | B55: Erste Hilfe Pack | C55: =INDEX(Materialliste!L:L,MATCH(B55,Materialliste!D:D,0)) -> 0 | D55: =IF(COUNTIF($A$4:A55,IF(A55<>"",A55,B55))>1,"",IFERROR(IF(INDEX(Materialliste!N:N,MATCH(IF(A55<>"",A55,B55),Materialliste!D:D,0))=0,"",INDEX(Materialliste!N:N,MATCH(IF(A55<>"",A55,B55),Materialliste!D:D,0))),""))
A56: Schneeschuhe | B56: Tubbs (schwarz/orange) | C56: =INDEX(Materialliste!D:D,MATCH(B56,Materialliste!E:E,0)) -> 0 | D56: =IF(COUNTIF($A$4:A56,IF(A56<>"",A56,B56))>1,"",IFERROR(IF(INDEX(Materialliste!N:N,MATCH(IF(A56<>"",A56,B56),Materialliste!D:D,0))=0,"",INDEX(Materialliste!N:N,MATCH(IF(A56<>"",A56,B56),Materialliste!D:D,0))),""))
A57: Schneeschuhe | B57: Tubbs (schwarz/blau) | C57: =INDEX(Materialliste!D:D,MATCH(B57,Materialliste!E:E,0)) -> 0 | D57: =IF(COUNTIF($A$4:A57,IF(A57<>"",A57,B57))>1,"",IFERROR(IF(INDEX(Materialliste!N:N,MATCH(IF(A57<>"",A57,B57),Materialliste!D:D,0))=0,"",INDEX(Materialliste!N:N,MATCH(IF(A57<>"",A57,B57),Materialliste!D:D,0))),""))
A58: Schneeschuhe | B58: TSL in Hülle (grün) | C58: =INDEX(Materialliste!H:H,MATCH(B58,Materialliste!I:I,0)) -> 0 | D58: =IF(COUNTIF($A$4:A58,IF(A58<>"",A58,B58))>1,"",IFERROR(IF(INDEX(Materialliste!N:N,MATCH(IF(A58<>"",A58,B58),Materialliste!D:D,0))=0,"",INDEX(Materialliste!N:N,MATCH(IF(A58<>"",A58,B58),Materialliste!D:D,0))),""))
A59: Schneeschuhe | B59: TSL in Hülle (gelb) | C59: =INDEX(Materialliste!H:H,MATCH(B59,Materialliste!I:I,0)) -> 0 | D59: =IF(COUNTIF($A$4:A59,IF(A59<>"",A59,B59))>1,"",IFERROR(IF(INDEX(Materialliste!N:N,MATCH(IF(A59<>"",A59,B59),Materialliste!D:D,0))=0,"",INDEX(Materialliste!N:N,MATCH(IF(A59<>"",A59,B59),Materialliste!D:D,0))),""))
A60: Steigeisen mit Stollplatte | B60: Grivel mit Körbchen vorne (Steileis) +Kipphebel | C60: =INDEX(Materialliste!D:D,MATCH(B60,Materialliste!E:E,0)) -> 0 | D60: =IF(COUNTIF($A$4:A60,IF(A60<>"",A60,B60))>1,"",IFERROR(IF(INDEX(Materialliste!N:N,MATCH(IF(A60<>"",A60,B60),Materialliste!D:D,0))=0,"",INDEX(Materialliste!N:N,MATCH(IF(A60<>"",A60,B60),Materialliste!D:D,0))),""))
A61: Steigeisen mit Stollplatte | B61: Grivel mit Bügel vorne (Steileis) + Kipphebel | C61: =INDEX(Materialliste!D:D,MATCH(B61,Materialliste!E:E,0)) -> 0 | D61: =IF(COUNTIF($A$4:A61,IF(A61<>"",A61,B61))>1,"",IFERROR(IF(INDEX(Materialliste!N:N,MATCH(IF(A61<>"",A61,B61),Materialliste!D:D,0))=0,"",INDEX(Materialliste!N:N,MATCH(IF(A61<>"",A61,B61),Materialliste!D:D,0))),""))
A62: Steigeisen ohne Stollplatte | B62: Salewa ohne Frontzacken mit Riemen | C62: =INDEX(Materialliste!D:D,MATCH(B62,Materialliste!E:E,0)) -> 0 | D62: =IF(COUNTIF($A$4:A62,IF(A62<>"",A62,B62))>1,"",IFERROR(IF(INDEX(Materialliste!N:N,MATCH(IF(A62<>"",A62,B62),Materialliste!D:D,0))=0,"",INDEX(Materialliste!N:N,MATCH(IF(A62<>"",A62,B62),Materialliste!D:D,0))),""))
A63: Steigeisen ohne Stollplatte | B63: Salewa mit Frontzacken mit Riemen | C63: =INDEX(Materialliste!D:D,MATCH(B63,Materialliste!E:E,0)) -> 0 | D63: =IF(COUNTIF($A$4:A63,IF(A63<>"",A63,B63))>1,"",IFERROR(IF(INDEX(Materialliste!N:N,MATCH(IF(A63<>"",A63,B63),Materialliste!D:D,0))=0,"",INDEX(Materialliste!N:N,MATCH(IF(A63<>"",A63,B63),Materialliste!D:D,0))),""))
A64: Steigeisen ohne Stollplatte | B64: Lucky mit Frontzacken mit Riemen | C64: =INDEX(Materialliste!H:H,MATCH(B64,Materialliste!I:I,0)) -> 0 | D64: =IF(COUNTIF($A$4:A64,IF(A64<>"",A64,B64))>1,"",IFERROR(IF(INDEX(Materialliste!N:N,MATCH(IF(A64<>"",A64,B64),Materialliste!D:D,0))=0,"",INDEX(Materialliste!N:N,MATCH(IF(A64<>"",A64,B64),Materialliste!D:D,0))),""))
A65: Steigeisen ohne Stollplatte | B65: Grödeln mit Riemen | C65: =INDEX(Materialliste!H:H,MATCH(B65,Materialliste!I:I,0)) -> 0 | D65: =IF(COUNTIF($A$4:A65,IF(A65<>"",A65,B65))>1,"",IFERROR(IF(INDEX(Materialliste!N:N,MATCH(IF(A65<>"",A65,B65),Materialliste!D:D,0))=0,"",INDEX(Materialliste!N:N,MATCH(IF(A65<>"",A65,B65),Materialliste!D:D,0))),""))
A66: Eisschrauben (vaude) | B66: Grivel 16cm | C66: =INDEX(Materialliste!D:D,MATCH(B66,Materialliste!E:E,0)) -> 0 | D66: =IF(COUNTIF($A$4:A66,IF(A66<>"",A66,B66))>1,"",IFERROR(IF(INDEX(Materialliste!N:N,MATCH(IF(A66<>"",A66,B66),Materialliste!D:D,0))=0,"",INDEX(Materialliste!N:N,MATCH(IF(A66<>"",A66,B66),Materialliste!D:D,0))),""))
A67: Eisschrauben (vaude) | B67: Grivel 20 cm | C67: =INDEX(Materialliste!F:F,MATCH(B67,Materialliste!G:G,0)) -> 0 | D67: =IF(COUNTIF($A$4:A67,IF(A67<>"",A67,B67))>1,"",IFERROR(IF(INDEX(Materialliste!N:N,MATCH(IF(A67<>"",A67,B67),Materialliste!D:D,0))=0,"",INDEX(Materialliste!N:N,MATCH(IF(A67<>"",A67,B67),Materialliste!D:D,0))),""))
A68: Steil-Eisgeräte | B68: Paar Petzl Charlet Moser ohne Handschlaufen mit Hörnchen | C68: =INDEX(Materialliste!D:D,MATCH(B68,Materialliste!E:E,0)) -> 0 | D68: =IF(COUNTIF($A$4:A68,IF(A68<>"",A68,B68))>1,"",IFERROR(IF(INDEX(Materialliste!N:N,MATCH(IF(A68<>"",A68,B68),Materialliste!D:D,0))=0,"",INDEX(Materialliste!N:N,MATCH(IF(A68<>"",A68,B68),Materialliste!D:D,0))),""))
A69: Steil-Eisgeräte | B69: Paar Petz Charlet Moser mit Handschlaufen | C69: =INDEX(Materialliste!D:D,MATCH(B69,Materialliste!E:E,0)) -> 0 | D69: =IF(COUNTIF($A$4:A69,IF(A69<>"",A69,B69))>1,"",IFERROR(IF(INDEX(Materialliste!N:N,MATCH(IF(A69<>"",A69,B69),Materialliste!D:D,0))=0,"",INDEX(Materialliste!N:N,MATCH(IF(A69<>"",A69,B69),Materialliste!D:D,0))),""))
B70: Lawinenschaufel und Sode im Set | C70: =INDEX(Materialliste!L:L,MATCH(B70,Materialliste!D:D,0)) -> 0 | D70: =IF(COUNTIF($A$4:A70,IF(A70<>"",A70,B70))>1,"",IFERROR(IF(INDEX(Materialliste!N:N,MATCH(IF(A70<>"",A70,B70),Materialliste!D:D,0))=0,"",INDEX(Materialliste!N:N,MATCH(IF(A70<>"",A70,B70),Materialliste!D:D,0))),""))
B71: LVS Geräte DSP Pieps in Tragetasche ohne Batterien | C71: =INDEX(Materialliste!L:L,MATCH(B71,Materialliste!D:D,0)) -> 0 | D71: =IF(COUNTIF($A$4:A71,IF(A71<>"",A71,B71))>1,"",IFERROR(IF(INDEX(Materialliste!N:N,MATCH(IF(A71<>"",A71,B71),Materialliste!D:D,0))=0,"",INDEX(Materialliste!N:N,MATCH(IF(A71<>"",A71,B71),Materialliste!D:D,0))),""))
A72: Eispickel | B72: gerade -kurz- | C72: =INDEX(Materialliste!D:D,MATCH(B72,Materialliste!E:E,0)) -> 0 | D72: =IF(COUNTIF($A$4:A72,IF(A72<>"",A72,B72))>1,"",IFERROR(IF(INDEX(Materialliste!N:N,MATCH(IF(A72<>"",A72,B72),Materialliste!D:D,0))=0,"",INDEX(Materialliste!N:N,MATCH(IF(A72<>"",A72,B72),Materialliste!D:D,0))),""))
A73: Eispickel | B73: gerade-lang- | C73: =INDEX(Materialliste!F:F,MATCH(B73,Materialliste!G:G,0)) -> 0 | D73: =IF(COUNTIF($A$4:A73,IF(A73<>"",A73,B73))>1,"",IFERROR(IF(INDEX(Materialliste!N:N,MATCH(IF(A73<>"",A73,B73),Materialliste!D:D,0))=0,"",INDEX(Materialliste!N:N,MATCH(IF(A73<>"",A73,B73),Materialliste!D:D,0))),""))
C74: =INDEX(Materialliste!D:D,MATCH(B74,Materialliste!E:E,0)) -> 0 | D74: =IF(COUNTIF($A$4:A74,IF(A74<>"",A74,B74))>1,"",IFERROR(IF(INDEX(Materialliste!N:N,MATCH(IF(A74<>"",A74,B74),Materialliste!D:D,0))=0,"",INDEX(Materialliste!N:N,MATCH(IF(A74<>"",A74,B74),Materialliste!D:D,0))),""))
C75: =INDEX(Materialliste!D:D,MATCH(B75,Materialliste!E:E,0)) -> 0 | D75: =IF(COUNTIF($A$4:A75,IF(A75<>"",A75,B75))>1,"",IFERROR(IF(INDEX(Materialliste!N:N,MATCH(IF(A75<>"",A75,B75),Materialliste!D:D,0))=0,"",INDEX(Materialliste!N:N,MATCH(IF(A75<>"",A75,B75),Materialliste!D:D,0))),""))
C76: =INDEX(Materialliste!D:D,MATCH(B76,Materialliste!E:E,0)) -> 0 | D76: =IF(COUNTIF($A$4:A76,IF(A76<>"",A76,B76))>1,"",IFERROR(IF(INDEX(Materialliste!N:N,MATCH(IF(A76<>"",A76,B76),Materialliste!D:D,0))=0,"",INDEX(Materialliste!N:N,MATCH(IF(A76<>"",A76,B76),Materialliste!D:D,0))),""))
C77: =INDEX(Materialliste!D:D,MATCH(B77,Materialliste!E:E,0)) -> 0 | D77: =IF(COUNTIF($A$4:A77,IF(A77<>"",A77,B77))>1,"",IFERROR(IF(INDEX(Materialliste!N:N,MATCH(IF(A77<>"",A77,B77),Materialliste!D:D,0))=0,"",INDEX(Materialliste!N:N,MATCH(IF(A77<>"",A77,B77),Materialliste!D:D,0))),""))
C78: =INDEX(Materialliste!D:D,MATCH(B78,Materialliste!E:E,0)) -> 0 | D78: =IF(COUNTIF($A$4:A78,IF(A78<>"",A78,B78))>1,"",IFERROR(IF(INDEX(Materialliste!N:N,MATCH(IF(A78<>"",A78,B78),Materialliste!D:D,0))=0,"",INDEX(Materialliste!N:N,MATCH(IF(A78<>"",A78,B78),Materialliste!D:D,0))),""))
C79: =INDEX(Materialliste!D:D,MATCH(B79,Materialliste!E:E,0)) -> 0 | D79: =IF(COUNTIF($A$4:A79,IF(A79<>"",A79,B79))>1,"",IFERROR(IF(INDEX(Materialliste!N:N,MATCH(IF(A79<>"",A79,B79),Materialliste!D:D,0))=0,"",INDEX(Materialliste!N:N,MATCH(IF(A79<>"",A79,B79),Materialliste!D:D,0))),""))
C80: =INDEX(Materialliste!D:D,MATCH(B80,Materialliste!E:E,0)) -> 0 | D80: =IF(COUNTIF($A$4:A80,IF(A80<>"",A80,B80))>1,"",IFERROR(IF(INDEX(Materialliste!N:N,MATCH(IF(A80<>"",A80,B80),Materialliste!D:D,0))=0,"",INDEX(Materialliste!N:N,MATCH(IF(A80<>"",A80,B80),Materialliste!D:D,0))),""))
C81: =INDEX(Materialliste!D:D,MATCH(B81,Materialliste!E:E,0)) -> 0 | D81: =IF(COUNTIF($A$4:A81,IF(A81<>"",A81,B81))>1,"",IFERROR(IF(INDEX(Materialliste!N:N,MATCH(IF(A81<>"",A81,B81),Materialliste!D:D,0))=0,"",INDEX(Materialliste!N:N,MATCH(IF(A81<>"",A81,B81),Materialliste!D:D,0))),""))
C82: =INDEX(Materialliste!D:D,MATCH(B82,Materialliste!E:E,0)) -> 0 | D82: =IF(COUNTIF($A$4:A82,IF(A82<>"",A82,B82))>1,"",IFERROR(IF(INDEX(Materialliste!N:N,MATCH(IF(A82<>"",A82,B82),Materialliste!D:D,0))=0,"",INDEX(Materialliste!N:N,MATCH(IF(A82<>"",A82,B82),Materialliste!D:D,0))),""))
C83: =INDEX(Materialliste!D:D,MATCH(B83,Materialliste!E:E,0)) -> 0 | D83: =IF(COUNTIF($A$4:A83,IF(A83<>"",A83,B83))>1,"",IFERROR(IF(INDEX(Materialliste!N:N,MATCH(IF(A83<>"",A83,B83),Materialliste!D:D,0))=0,"",INDEX(Materialliste!N:N,MATCH(IF(A83<>"",A83,B83),Materialliste!D:D,0))),""))
C84: =INDEX(Materialliste!D:D,MATCH(B84,Materialliste!E:E,0)) -> 0 | D84: =IF(COUNTIF($A$4:A84,IF(A84<>"",A84,B84))>1,"",IFERROR(IF(INDEX(Materialliste!N:N,MATCH(IF(A84<>"",A84,B84),Materialliste!D:D,0))=0,"",INDEX(Materialliste!N:N,MATCH(IF(A84<>"",A84,B84),Materialliste!D:D,0))),""))
C85: =INDEX(Materialliste!D:D,MATCH(B85,Materialliste!E:E,0)) -> 0 | D85: =IF(COUNTIF($A$4:A85,IF(A85<>"",A85,B85))>1,"",IFERROR(IF(INDEX(Materialliste!N:N,MATCH(IF(A85<>"",A85,B85),Materialliste!D:D,0))=0,"",INDEX(Materialliste!N:N,MATCH(IF(A85<>"",A85,B85),Materialliste!D:D,0))),""))
... C88: =INDEX(Materialliste!D:D,MATCH(B88,Materialliste!E:E,0)) -> 0 | D88: =IF(COUNTIF($A$4:A88,IF(A88<>"",A88,B88))>1,"",IFERROR(IF(INDEX(Materialliste!N:N,MATCH(IF(A88<>"",A88,B88),Materialliste!D:D,0))=0,"",INDEX(Materialliste!N:N,MATCH(IF(A88<>"",A88,B88),Materialliste!D:D,0))),""))

Sheet Druck
A1: Materilalübersicht
A3: Kategorie | B3: Artikel | C3: Menge | D3: Bemerkung | E3: vollständig
A4: =IFERROR(INDEX(Auswertung!A$4:A$92,_xlfn.AGGREGATE(15,6,(ROW(Auswertung!$C$4:$C$92)-ROW(Auswertung!$C$4)+1)/(Auswertung!$C$4:$C$92>0),ROWS($A$4:A4))),"") | B4: =IFERROR(INDEX(Auswertung!B$4:B$92,_xlfn.AGGREGATE(15,6,(ROW(Auswertung!$C$4:$C$92)-ROW(Auswertung!$C$4)+1)/(Auswertung!$C$4:$C$92>0),ROWS($A$4:A4))),"") | C4: =IFERROR(INDEX(Auswertung!C$4:C$92,_xlfn.AGGREGATE(15,6,(ROW(Auswertung!$C$4:$C$92)-ROW(Auswertung!$C$4)+1)/(Auswertung!$C$4:$C$92>0),ROWS($A$4:A4))),"" ) | D4: =IF(COUNTIF($A$4:A4,A4)>1,"",IFERROR(INDEX(Auswertung!$D$4:$D$92,MATCH(A4,Auswertung!$A$4:$A$92,0)),""))
A5: =IFERROR(INDEX(Auswertung!A$4:A$92,_xlfn.AGGREGATE(15,6,(ROW(Auswertung!$C$4:$C$92)-ROW(Auswertung!$C$4)+1)/(Auswertung!$C$4:$C$92>0),ROWS($A$4:A5))),"") | B5: =IFERROR(INDEX(Auswertung!B$4:B$92,_xlfn.AGGREGATE(15,6,(ROW(Auswertung!$C$4:$C$92)-ROW(Auswertung!$C$4)+1)/(Auswertung!$C$4:$C$92>0),ROWS($A$4:A5))),"") | C5: =IFERROR(INDEX(Auswertung!C$4:C$92,_xlfn.AGGREGATE(15,6,(ROW(Auswertung!$C$4:$C$92)-ROW(Auswertung!$C$4)+1)/(Auswertung!$C$4:$C$92>0),ROWS($A$4:A5))),"" ) | D5: =IF(COUNTIF($A$4:A5,A5)>1,"",IFERROR(INDEX(Auswertung!$D$4:$D$92,MATCH(A5,Auswertung!$A$4:$A$92,0)),""))
A6: =IFERROR(INDEX(Auswertung!A$4:A$92,_xlfn.AGGREGATE(15,6,(ROW(Auswertung!$C$4:$C$92)-ROW(Auswertung!$C$4)+1)/(Auswertung!$C$4:$C$92>0),ROWS($A$4:A6))),"") | B6: =IFERROR(INDEX(Auswertung!B$4:B$92,_xlfn.AGGREGATE(15,6,(ROW(Auswertung!$C$4:$C$92)-ROW(Auswertung!$C$4)+1)/(Auswertung!$C$4:$C$92>0),ROWS($A$4:A6))),"") | C6: =IFERROR(INDEX(Auswertung!C$4:C$92,_xlfn.AGGREGATE(15,6,(ROW(Auswertung!$C$4:$C$92)-ROW(Auswertung!$C$4)+1)/(Auswertung!$C$4:$C$92>0),ROWS($A$4:A6))),"" ) | D6: =IF(COUNTIF($A$4:A6,A6)>1,"",IFERROR(INDEX(Auswertung!$D$4:$D$92,MATCH(A6,Auswertung!$A$4:$A$92,0)),""))
A7: =IFERROR(INDEX(Auswertung!A$4:A$92,_xlfn.AGGREGATE(15,6,(ROW(Auswertung!$C$4:$C$92)-ROW(Auswertung!$C$4)+1)/(Auswertung!$C$4:$C$92>0),ROWS($A$4:A7))),"") | B7: =IFERROR(INDEX(Auswertung!B$4:B$92,_xlfn.AGGREGATE(15,6,(ROW(Auswertung!$C$4:$C$92)-ROW(Auswertung!$C$4)+1)/(Auswertung!$C$4:$C$92>0),ROWS($A$4:A7))),"") | C7: =IFERROR(INDEX(Auswertung!C$4:C$92,_xlfn.AGGREGATE(15,6,(ROW(Auswertung!$C$4:$C$92)-ROW(Auswertung!$C$4)+1)/(Auswertung!$C$4:$C$92>0),ROWS($A$4:A7))),"" ) | D7: =IF(COUNTIF($A$4:A7,A7)>1,"",IFERROR(INDEX(Auswertung!$D$4:$D$92,MATCH(A7,Auswertung!$A$4:$A$92,0)),""))
A8: =IFERROR(INDEX(Auswertung!A$4:A$92,_xlfn.AGGREGATE(15,6,(ROW(Auswertung!$C$4:$C$92)-ROW(Auswertung!$C$4)+1)/(Auswertung!$C$4:$C$92>0),ROWS($A$4:A8))),"") | B8: =IFERROR(INDEX(Auswertung!B$4:B$92,_xlfn.AGGREGATE(15,6,(ROW(Auswertung!$C$4:$C$92)-ROW(Auswertung!$C$4)+1)/(Auswertung!$C$4:$C$92>0),ROWS($A$4:A8))),"") | C8: =IFERROR(INDEX(Auswertung!C$4:C$92,_xlfn.AGGREGATE(15,6,(ROW(Auswertung!$C$4:$C$92)-ROW(Auswertung!$C$4)+1)/(Auswertung!$C$4:$C$92>0),ROWS($A$4:A8))),"" ) | D8: =IF(COUNTIF($A$4:A8,A8)>1,"",IFERROR(INDEX(Auswertung!$D$4:$D$92,MATCH(A8,Auswertung!$A$4:$A$92,0)),""))
A9: =IFERROR(INDEX(Auswertung!A$4:A$92,_xlfn.AGGREGATE(15,6,(ROW(Auswertung!$C$4:$C$92)-ROW(Auswertung!$C$4)+1)/(Auswertung!$C$4:$C$92>0),ROWS($A$4:A9))),"") | B9: =IFERROR(INDEX(Auswertung!B$4:B$92,_xlfn.AGGREGATE(15,6,(ROW(Auswertung!$C$4:$C$92)-ROW(Auswertung!$C$4)+1)/(Auswertung!$C$4:$C$92>0),ROWS($A$4:A9))),"") | C9: =IFERROR(INDEX(Auswertung!C$4:C$92,_xlfn.AGGREGATE(15,6,(ROW(Auswertung!$C$4:$C$92)-ROW(Auswertung!$C$4)+1)/(Auswertung!$C$4:$C$92>0),ROWS($A$4:A9))),"" ) | D9: =IF(COUNTIF($A$4:A9,A9)>1,"",IFERROR(INDEX(Auswertung!$D$4:$D$92,MATCH(A9,Auswertung!$A$4:$A$92,0)),""))
A10: =IFERROR(INDEX(Auswertung!A$4:A$92,_xlfn.AGGREGATE(15,6,(ROW(Auswertung!$C$4:$C$92)-ROW(Auswertung!$C$4)+1)/(Auswertung!$C$4:$C$92>0),ROWS($A$4:A10))),"") | B10: =IFERROR(INDEX(Auswertung!B$4:B$92,_xlfn.AGGREGATE(15,6,(ROW(Auswertung!$C$4:$C$92)-ROW(Auswertung!$C$4)+1)/(Auswertung!$C$4:$C$92>0),ROWS($A$4:A10))),"") | C10: =IFERROR(INDEX(Auswertung!C$4:C$92,_xlfn.AGGREGATE(15,6,(ROW(Auswertung!$C$4:$C$92)-ROW(Auswertung!$C$4)+1)/(Auswertung!$C$4:$C$92>0),ROWS($A$4:A10))),"" ) | D10: =IF(COUNTIF($A$4:A10,A10)>1,"",IFERROR(INDEX(Auswertung!$D$4:$D$92,MATCH(A10,Auswertung!$A$4:$A$92,0)),""))
A11: =IFERROR(INDEX(Auswertung!A$4:A$92,_xlfn.AGGREGATE(15,6,(ROW(Auswertung!$C$4:$C$92)-ROW(Auswertung!$C$4)+1)/(Auswertung!$C$4:$C$92>0),ROWS($A$4:A11))),"") | B11: =IFERROR(INDEX(Auswertung!B$4:B$92,_xlfn.AGGREGATE(15,6,(ROW(Auswertung!$C$4:$C$92)-ROW(Auswertung!$C$4)+1)/(Auswertung!$C$4:$C$92>0),ROWS($A$4:A11))),"") | C11: =IFERROR(INDEX(Auswertung!C$4:C$92,_xlfn.AGGREGATE(15,6,(ROW(Auswertung!$C$4:$C$92)-ROW(Auswertung!$C$4)+1)/(Auswertung!$C$4:$C$92>0),ROWS($A$4:A11))),"" ) | D11: =IF(COUNTIF($A$4:A11,A11)>1,"",IFERROR(INDEX(Auswertung!$D$4:$D$92,MATCH(A11,Auswertung!$A$4:$A$92,0)),""))
A12: =IFERROR(INDEX(Auswertung!A$4:A$92,_xlfn.AGGREGATE(15,6,(ROW(Auswertung!$C$4:$C$92)-ROW(Auswertung!$C$4)+1)/(Auswertung!$C$4:$C$92>0),ROWS($A$4:A12))),"") | B12: =IFERROR(INDEX(Auswertung!B$4:B$92,_xlfn.AGGREGATE(15,6,(ROW(Auswertung!$C$4:$C$92)-ROW(Auswertung!$C$4)+1)/(Auswertung!$C$4:$C$92>0),ROWS($A$4:A12))),"") | C12: =IFERROR(INDEX(Auswertung!C$4:C$92,_xlfn.AGGREGATE(15,6,(ROW(Auswertung!$C$4:$C$92)-ROW(Auswertung!$C$4)+1)/(Auswertung!$C$4:$C$92>0),ROWS($A$4:A12))),"" ) | D12: =IF(COUNTIF($A$4:A12,A12)>1,"",IFERROR(INDEX(Auswertung!$D$4:$D$92,MATCH(A12,Auswertung!$A$4:$A$92,0)),""))
A13: =IFERROR(INDEX(Auswertung!A$4:A$92,_xlfn.AGGREGATE(15,6,(ROW(Auswertung!$C$4:$C$92)-ROW(Auswertung!$C$4)+1)/(Auswertung!$C$4:$C$92>0),ROWS($A$4:A13))),"") | B13: =IFERROR(INDEX(Auswertung!B$4:B$92,_xlfn.AGGREGATE(15,6,(ROW(Auswertung!$C$4:$C$92)-ROW(Auswertung!$C$4)+1)/(Auswertung!$C$4:$C$92>0),ROWS($A$4:A13))),"") | C13: =IFERROR(INDEX(Auswertung!C$4:C$92,_xlfn.AGGREGATE(15,6,(ROW(Auswertung!$C$4:$C$92)-ROW(Auswertung!$C$4)+1)/(Auswertung!$C$4:$C$92>0),ROWS($A$4:A13))),"" ) | D13: =IF(COUNTIF($A$4:A13,A13)>1,"",IFERROR(INDEX(Auswertung!$D$4:$D$92,MATCH(A13,Auswertung!$A$4:$A$92,0)),""))
A14: =IFERROR(INDEX(Auswertung!A$4:A$92,_xlfn.AGGREGATE(15,6,(ROW(Auswertung!$C$4:$C$92)-ROW(Auswertung!$C$4)+1)/(Auswertung!$C$4:$C$92>0),ROWS($A$4:A14))),"") | B14: =IFERROR(INDEX(Auswertung!B$4:B$92,_xlfn.AGGREGATE(15,6,(ROW(Auswertung!$C$4:$C$92)-ROW(Auswertung!$C$4)+1)/(Auswertung!$C$4:$C$92>0),ROWS($A$4:A14))),"") | C14: =IFERROR(INDEX(Auswertung!C$4:C$92,_xlfn.AGGREGATE(15,6,(ROW(Auswertung!$C$4:$C$92)-ROW(Auswertung!$C$4)+1)/(Auswertung!$C$4:$C$92>0),ROWS($A$4:A14))),"" ) | D14: =IF(COUNTIF($A$4:A14,A14)>1,"",IFERROR(INDEX(Auswertung!$D$4:$D$92,MATCH(A14,Auswertung!$A$4:$A$92,0)),""))
A15: =IFERROR(INDEX(Auswertung!A$4:A$92,_xlfn.AGGREGATE(15,6,(ROW(Auswertung!$C$4:$C$92)-ROW(Auswertung!$C$4)+1)/(Auswertung!$C$4:$C$92>0),ROWS($A$4:A15))),"") | B15: =IFERROR(INDEX(Auswertung!B$4:B$92,_xlfn.AGGREGATE(15,6,(ROW(Auswertung!$C$4:$C$92)-ROW(Auswertung!$C$4)+1)/(Auswertung!$C$4:$C$92>0),ROWS($A$4:A15))),"") | C15: =IFERROR(INDEX(Auswertung!C$4:C$92,_xlfn.AGGREGATE(15,6,(ROW(Auswertung!$C$4:$C$92)-ROW(Auswertung!$C$4)+1)/(Auswertung!$C$4:$C$92>0),ROWS($A$4:A15))),"" ) | D15: =IF(COUNTIF($A$4:A15,A15)>1,"",IFERROR(INDEX(Auswertung!$D$4:$D$92,MATCH(A15,Auswertung!$A$4:$A$92,0)),""))
... A76: =IFERROR(INDEX(Auswertung!A$4:A$92,_xlfn.AGGREGATE(15,6,(ROW(Auswertung!$C$4:$C$92)-ROW(Auswertung!$C$4)+1)/(Auswertung!$C$4:$C$92>0),ROWS($A$4:A76))),"") | B76: =IFERROR(INDEX(Auswertung!B$4:B$92,_xlfn.AGGREGATE(15,6,(ROW(Auswertung!$C$4:$C$92)-ROW(Auswertung!$C$4)+1)/(Auswertung!$C$4:$C$92>0),ROWS($A$4:A76))),"") | C76: =IFERROR(INDEX(Auswertung!C$4:C$92,_xlfn.AGGREGATE(15,6,(ROW(Auswertung!$C$4:$C$92)-ROW(Auswertung!$C$4)+1)/(Auswertung!$C$4:$C$92>0),ROWS($A$4:A76))),"" ) | D76: =IF(COUNTIF($A$4:A76,A76)>1,"",IFERROR(INDEX(Auswertung!$D$4:$D$92,MATCH(A76,Auswertung!$A$4:$A$92,0)),""))
A77: =IFERROR(INDEX(Auswertung!A$4:A$92,_xlfn.AGGREGATE(15,6,(ROW(Auswertung!$C$4:$C$92)-ROW(Auswertung!$C$4)+1)/(Auswertung!$C$4:$C$92>0),ROWS($A$4:A77))),"") | B77: =IFERROR(INDEX(Auswertung!B$4:B$92,_xlfn.AGGREGATE(15,6,(ROW(Auswertung!$C$4:$C$92)-ROW(Auswertung!$C$4)+1)/(Auswertung!$C$4:$C$92>0),ROWS($A$4:A77))),"") | C77: =IFERROR(INDEX(Auswertung!C$4:C$92,_xlfn.AGGREGATE(15,6,(ROW(Auswertung!$C$4:$C$92)-ROW(Auswertung!$C$4)+1)/(Auswertung!$C$4:$C$92>0),ROWS($A$4:A77))),"" ) | D77: =IF(COUNTIF($A$4:A77,A77)>1,"",IFERROR(INDEX(Auswertung!$D$4:$D$92,MATCH(A77,Auswertung!$A$4:$A$92,0)),"")) | J77: Ja
A78: =IFERROR(INDEX(Auswertung!A$4:A$92,_xlfn.AGGREGATE(15,6,(ROW(Auswertung!$C$4:$C$92)-ROW(Auswertung!$C$4)+1)/(Auswertung!$C$4:$C$92>0),ROWS($A$4:A78))),"") | B78: =IFERROR(INDEX(Auswertung!B$4:B$92,_xlfn.AGGREGATE(15,6,(ROW(Auswertung!$C$4:$C$92)-ROW(Auswertung!$C$4)+1)/(Auswertung!$C$4:$C$92>0),ROWS($A$4:A78))),"") | C78: =IFERROR(INDEX(Auswertung!C$4:C$92,_xlfn.AGGREGATE(15,6,(ROW(Auswertung!$C$4:$C$92)-ROW(Auswertung!$C$4)+1)/(Auswertung!$C$4:$C$92>0),ROWS($A$4:A78))),"" ) | D78: =IF(COUNTIF($A$4:A78,A78)>1,"",IFERROR(INDEX(Auswertung!$D$4:$D$92,MATCH(A78,Auswertung!$A$4:$A$92,0)),""))
A79: =IFERROR(INDEX(Auswertung!A$4:A$92,_xlfn.AGGREGATE(15,6,(ROW(Auswertung!$C$4:$C$92)-ROW(Auswertung!$C$4)+1)/(Auswertung!$C$4:$C$92>0),ROWS($A$4:A79))),"") | B79: =IFERROR(INDEX(Auswertung!B$4:B$92,_xlfn.AGGREGATE(15,6,(ROW(Auswertung!$C$4:$C$92)-ROW(Auswertung!$C$4)+1)/(Auswertung!$C$4:$C$92>0),ROWS($A$4:A79))),"") | C79: =IFERROR(INDEX(Auswertung!C$4:C$92,_xlfn.AGGREGATE(15,6,(ROW(Auswertung!$C$4:$C$92)-ROW(Auswertung!$C$4)+1)/(Auswertung!$C$4:$C$92>0),ROWS($A$4:A79))),"" ) | D79: =IF(COUNTIF($A$4:A79,A79)>1,"",IFERROR(INDEX(Auswertung!$D$4:$D$92,MATCH(A79,Auswertung!$A$4:$A$92,0)),""))
A80: =IFERROR(INDEX(Auswertung!A$4:A$92,_xlfn.AGGREGATE(15,6,(ROW(Auswertung!$C$4:$C$92)-ROW(Auswertung!$C$4)+1)/(Auswertung!$C$4:$C$92>0),ROWS($A$4:A80))),"") | B80: =IFERROR(INDEX(Auswertung!B$4:B$92,_xlfn.AGGREGATE(15,6,(ROW(Auswertung!$C$4:$C$92)-ROW(Auswertung!$C$4)+1)/(Auswertung!$C$4:$C$92>0),ROWS($A$4:A80))),"") | C80: =IFERROR(INDEX(Auswertung!C$4:C$92,_xlfn.AGGREGATE(15,6,(ROW(Auswertung!$C$4:$C$92)-ROW(Auswertung!$C$4)+1)/(Auswertung!$C$4:$C$92>0),ROWS($A$4:A80))),"" ) | D80: =IF(COUNTIF($A$4:A80,A80)>1,"",IFERROR(INDEX(Auswertung!$D$4:$D$92,MATCH(A80,Auswertung!$A$4:$A$92,0)),""))
A81: =IFERROR(INDEX(Auswertung!A$4:A$92,_xlfn.AGGREGATE(15,6,(ROW(Auswertung!$C$4:$C$92)-ROW(Auswertung!$C$4)+1)/(Auswertung!$C$4:$C$92>0),ROWS($A$4:A81))),"") | B81: =IFERROR(INDEX(Auswertung!B$4:B$92,_xlfn.AGGREGATE(15,6,(ROW(Auswertung!$C$4:$C$92)-ROW(Auswertung!$C$4)+1)/(Auswertung!$C$4:$C$92>0),ROWS($A$4:A81))),"") | C81: =IFERROR(INDEX(Auswertung!C$4:C$92,_xlfn.AGGREGATE(15,6,(ROW(Auswertung!$C$4:$C$92)-ROW(Auswertung!$C$4)+1)/(Auswertung!$C$4:$C$92>0),ROWS($A$4:A81))),"" ) | D81: =IF(COUNTIF($A$4:A81,A81)>1,"",IFERROR(INDEX(Auswertung!$D$4:$D$92,MATCH(A81,Auswertung!$A$4:$A$92,0)),""))
A82: =IFERROR(INDEX(Auswertung!A$4:A$92,_xlfn.AGGREGATE(15,6,(ROW(Auswertung!$C$4:$C$92)-ROW(Auswertung!$C$4)+1)/(Auswertung!$C$4:$C$92>0),ROWS($A$4:A82))),"") | B82: =IFERROR(INDEX(Auswertung!B$4:B$92,_xlfn.AGGREGATE(15,6,(ROW(Auswertung!$C$4:$C$92)-ROW(Auswertung!$C$4)+1)/(Auswertung!$C$4:$C$92>0),ROWS($A$4:A82))),"") | C82: =IFERROR(INDEX(Auswertung!C$4:C$92,_xlfn.AGGREGATE(15,6,(ROW(Auswertung!$C$4:$C$92)-ROW(Auswertung!$C$4)+1)/(Auswertung!$C$4:$C$92>0),ROWS($A$4:A82))),"" ) | D82: =IF(COUNTIF($A$4:A82,A82)>1,"",IFERROR(INDEX(Auswertung!$D$4:$D$92,MATCH(A82,Auswertung!$A$4:$A$92,0)),""))
A83: =IFERROR(INDEX(Auswertung!A$4:A$92,_xlfn.AGGREGATE(15,6,(ROW(Auswertung!$C$4:$C$92)-ROW(Auswertung!$C$4)+1)/(Auswertung!$C$4:$C$92>0),ROWS($A$4:A83))),"") | B83: =IFERROR(INDEX(Auswertung!B$4:B$92,_xlfn.AGGREGATE(15,6,(ROW(Auswertung!$C$4:$C$92)-ROW(Auswertung!$C$4)+1)/(Auswertung!$C$4:$C$92>0),ROWS($A$4:A83))),"") | C83: =IFERROR(INDEX(Auswertung!C$4:C$92,_xlfn.AGGREGATE(15,6,(ROW(Auswertung!$C$4:$C$92)-ROW(Auswertung!$C$4)+1)/(Auswertung!$C$4:$C$92>0),ROWS($A$4:A83))),"" ) | D83: =IF(COUNTIF($A$4:A83,A83)>1,"",IFERROR(INDEX(Auswertung!$D$4:$D$92,MATCH(A83,Auswertung!$A$4:$A$92,0)),""))
A84: =IFERROR(INDEX(Auswertung!A$4:A$92,_xlfn.AGGREGATE(15,6,(ROW(Auswertung!$C$4:$C$92)-ROW(Auswertung!$C$4)+1)/(Auswertung!$C$4:$C$92>0),ROWS($A$4:A84))),"") | B84: =IFERROR(INDEX(Auswertung!B$4:B$92,_xlfn.AGGREGATE(15,6,(ROW(Auswertung!$C$4:$C$92)-ROW(Auswertung!$C$4)+1)/(Auswertung!$C$4:$C$92>0),ROWS($A$4:A84))),"") | C84: =IFERROR(INDEX(Auswertung!C$4:C$92,_xlfn.AGGREGATE(15,6,(ROW(Auswertung!$C$4:$C$92)-ROW(Auswertung!$C$4)+1)/(Auswertung!$C$4:$C$92>0),ROWS($A$4:A84))),"" ) | D84: =IF(COUNTIF($A$4:A84,A84)>1,"",IFERROR(INDEX(Auswertung!$D$4:$D$92,MATCH(A84,Auswertung!$A$4:$A$92,0)),""))
A85: =IFERROR(INDEX(Auswertung!A$4:A$92,_xlfn.AGGREGATE(15,6,(ROW(Auswertung!$C$4:$C$92)-ROW(Auswertung!$C$4)+1)/(Auswertung!$C$4:$C$92>0),ROWS($A$4:A85))),"") | B85: =IFERROR(INDEX(Auswertung!B$4:B$92,_xlfn.AGGREGATE(15,6,(ROW(Auswertung!$C$4:$C$92)-ROW(Auswertung!$C$4)+1)/(Auswertung!$C$4:$C$92>0),ROWS($A$4:A85))),"") | C85: =IFERROR(INDEX(Auswertung!C$4:C$92,_xlfn.AGGREGATE(15,6,(ROW(Auswertung!$C$4:$C$92)-ROW(Auswertung!$C$4)+1)/(Auswertung!$C$4:$C$92>0),ROWS($A$4:A85))),"" ) | D85: =IF(COUNTIF($A$4:A85,A85)>1,"",IFERROR(INDEX(Auswertung!$D$4:$D$92,MATCH(A85,Auswertung!$A$4:$A$92,0)),""))
A86: =IFERROR(INDEX(Auswertung!A$4:A$92,_xlfn.AGGREGATE(15,6,(ROW(Auswertung!$C$4:$C$92)-ROW(Auswertung!$C$4)+1)/(Auswertung!$C$4:$C$92>0),ROWS($A$4:A86))),"") | B86: =IFERROR(INDEX(Auswertung!B$4:B$92,_xlfn.AGGREGATE(15,6,(ROW(Auswertung!$C$4:$C$92)-ROW(Auswertung!$C$4)+1)/(Auswertung!$C$4:$C$92>0),ROWS($A$4:A86))),"") | C86: =IFERROR(INDEX(Auswertung!C$4:C$92,_xlfn.AGGREGATE(15,6,(ROW(Auswertung!$C$4:$C$92)-ROW(Auswertung!$C$4)+1)/(Auswertung!$C$4:$C$92>0),ROWS($A$4:A86))),"" ) | D86: =IF(COUNTIF($A$4:A86,A86)>1,"",IFERROR(INDEX(Auswertung!$D$4:$D$92,MATCH(A86,Auswertung!$A$4:$A$92,0)),""))
A87: =IFERROR(INDEX(Auswertung!A$4:A$92,_xlfn.AGGREGATE(15,6,(ROW(Auswertung!$C$4:$C$92)-ROW(Auswertung!$C$4)+1)/(Auswertung!$C$4:$C$92>0),ROWS($A$4:A87))),"") | B87: =IFERROR(INDEX(Auswertung!B$4:B$92,_xlfn.AGGREGATE(15,6,(ROW(Auswertung!$C$4:$C$92)-ROW(Auswertung!$C$4)+1)/(Auswertung!$C$4:$C$92>0),ROWS($A$4:A87))),"") | C87: =IFERROR(INDEX(Auswertung!C$4:C$92,_xlfn.AGGREGATE(15,6,(ROW(Auswertung!$C$4:$C$92)-ROW(Auswertung!$C$4)+1)/(Auswertung!$C$4:$C$92>0),ROWS($A$4:A87))),"" ) | D87: =IF(COUNTIF($A$4:A87,A87)>1,"",IFERROR(INDEX(Auswertung!$D$4:$D$92,MATCH(A87,Auswertung!$A$4:$A$92,0)),""))
A88: =IFERROR(INDEX(Auswertung!A$4:A$92,_xlfn.AGGREGATE(15,6,(ROW(Auswertung!$C$4:$C$92)-ROW(Auswertung!$C$4)+1)/(Auswertung!$C$4:$C$92>0),ROWS($A$4:A88))),"") | B88: =IFERROR(INDEX(Auswertung!B$4:B$92,_xlfn.AGGREGATE(15,6,(ROW(Auswertung!$C$4:$C$92)-ROW(Auswertung!$C$4)+1)/(Auswertung!$C$4:$C$92>0),ROWS($A$4:A88))),"") | C88: =IFERROR(INDEX(Auswertung!C$4:C$92,_xlfn.AGGREGATE(15,6,(ROW(Auswertung!$C$4:$C$92)-ROW(Auswertung!$C$4)+1)/(Auswertung!$C$4:$C$92>0),ROWS($A$4:A88))),"" ) | D88: =IF(COUNTIF($A$4:A88,A88)>1,"",IFERROR(INDEX(Auswertung!$D$4:$D$92,MATCH(A88,Auswertung!$A$4:$A$92,0)),""))
A89: =IFERROR(INDEX(Auswertung!A$4:A$92,_xlfn.AGGREGATE(15,6,(ROW(Auswertung!$C$4:$C$92)-ROW(Auswertung!$C$4)+1)/(Auswertung!$C$4:$C$92>0),ROWS($A$4:A89))),"") | B89: =IFERROR(INDEX(Auswertung!B$4:B$92,_xlfn.AGGREGATE(15,6,(ROW(Auswertung!$C$4:$C$92)-ROW(Auswertung!$C$4)+1)/(Auswertung!$C$4:$C$92>0),ROWS($A$4:A89))),"") | C89: =IFERROR(INDEX(Auswertung!C$4:C$92,_xlfn.AGGREGATE(15,6,(ROW(Auswertung!$C$4:$C$92)-ROW(Auswertung!$C$4)+1)/(Auswertung!$C$4:$C$92>0),ROWS($A$4:A89))),"" ) | D89: =IF(COUNTIF($A$4:A89,A89)>1,"",IFERROR(INDEX(Auswertung!$D$4:$D$92,MATCH(A89,Auswertung!$A$4:$A$92,0)),""))
A90: =IFERROR(INDEX(Auswertung!A$4:A$92,_xlfn.AGGREGATE(15,6,(ROW(Auswertung!$C$4:$C$92)-ROW(Auswertung!$C$4)+1)/(Auswertung!$C$4:$C$92>0),ROWS($A$4:A90))),"") | B90: =IFERROR(INDEX(Auswertung!B$4:B$92,_xlfn.AGGREGATE(15,6,(ROW(Auswertung!$C$4:$C$92)-ROW(Auswertung!$C$4)+1)/(Auswertung!$C$4:$C$92>0),ROWS($A$4:A90))),"") | C90: =IFERROR(INDEX(Auswertung!C$4:C$92,_xlfn.AGGREGATE(15,6,(ROW(Auswertung!$C$4:$C$92)-ROW(Auswertung!$C$4)+1)/(Auswertung!$C$4:$C$92>0),ROWS($A$4:A90))),"" ) | D90: =IF(COUNTIF($A$4:A90,A90)>1,"",IFERROR(INDEX(Auswertung!$D$4:$D$92,MATCH(A90,Auswertung!$A$4:$A$92,0)),""))
