Workbook

Sheet Materialliste
B3: Sektion Kaiserslautern des Deutschen Alpenvereins | P3: Rechnungs-Nummer : | R3: /2026
B4: E-Mail: materialverleih@dav-kaiserslautern.de
B6: Die Materialausgabe erfolgen wochenweise ab dem Dienstag der jeweils gebuchten Woche während der regulären Öffnungszeiten.
B7: Bitte melde deinen Materialbedarf möglichst zwei Wochen im Voraus per Email (s.o.) an.
B8: Die Rückgabe erfolgt ebenfalls zu den regulären Öffnungszeiten der Kletterhalle.
B9: Sollte es in den Ferien oder durch Urlaub zu Einschränkungen kommen, kannst du das Material in Ausnahmefällen auch nach individueller Absprache mit dem Material- oder
B10: Ausbildungsreferat erhalten.
B11: Bitte bring deinen Mitgliedsausweis zur Ausleihe mit.
B13: Die Öffnungszeiten sind:
B15: Mo - Fr.: 17:00 - 22:00 Uhr
B16: Do. zusätzlich: 09:00 - 14:00 Uhr
B17: Sa.: geschlossen
B18: So. & Feiertage: 15:00 - 22:00 Uhr
B20: Ausrüstungsmiete zur Abholung
C21: bitte die grün hinterlegten Felder ausfüllen
B23: Übungsleiter/ Leitung:
B24: Vorname: | K24: Name:
B25: Geb.-Tag: | K25: Mitgliedsnummer:
B26: Tel.-Nr.: | K26: E-Mail:
B28: Begleitpersonen/ Übungsleiter:
B29: Vorname: | K29: Name:
B30: Geb.-Tag: | K30: Mitgliedsnummer:
B33: Informationen zur Veranstaltung:
B34: Name der Veranstaltung
B35: Datum der Veranstaltung
B37: Informationen zu den Teilnehmer*innen
B38: Anzahl der Teilnehmer*innen
B41: Hinweise für die Ausleihe:
B42: Ich miete von der Sektion Kaiserslautern die nachfolgend aufgeführten Gegenstände. Ich weiß, dass die Gebühr keine Benutzungs-, sondern eine Mietgebühr ist, die auch im Nachhinein (bei Nichtabholung) erhoben werden kann. Ich hafte für Beschädigung durch unsachgemässen Gebrauch oder Verlust der ausgeliehenen Gegenstände. In diesem Falle wird mir der Wiederbeschaffungswert des Leihgegenstandes in Rechnung gestellt . Bei Unfall oder Nichtfunktion der Gegenstände verzichte ich auf die Geltendmachung von Schadenersatzansprüchen gegen die Sektion Kaiserslautern, soweit der Schaden nicht durch bestehende Haftpflichtversicherungen abgedeckt ist und es sich um leichte Fahrlässigkeit handelt. Bei der Abholung bzw. vor Gebrauch überprüfe ich die Gegenstände auf Funktionsfähigkeit oder etwaige Mängel. Bei der Rückgabe bin ich verpflichtet, in der Mietzeit aufgetretene Mängel, Beschädigungen oder besondere Vorkommnisse unaufgefordert mitzuteilen. Das Material muss sauber und in ordnungsgemässen Zustand zurück gegeben werden. Bei früherer Rückgabe besteht kein Anspruch auf Rückzahlung der Mietgebühr. Der Leihvertrag gilt erst dann als aufgelöst, wenn seitens der Sektion Mängelfreiheit am entliehenen Gegenstand festgestellt wurde.
B43: Die ausgehängte Datenschutzerklärung habe ich gelesen und erkläre mich damit einverstanden.
C44: Abholung: | G44: Rückgabe:
D45: Datum | J45: Datum
C47: Kostenstelle:
G48: Unterschrift Übungsleiter:
C51: Tage: | E51: =J44-D44 -> 0 | G51: Abholung: | J51: =D44 -> 0 | N51: Rückgabe: | P51: =J44 -> 0
J52: Datum | P52: Datum
C57: Artikel-Nummer (wird ausgefüllt) | D57: Gegenstand | N57: Bemerkungen
D58: Crashpad | J58: 0
C59: Alpinklettern
D60: Sicherungsgeräte
...

Sheet Auswertung
A1: Übersicht
A3: Kategorie | B3: Artikel | C3: Menge | D3: Bemerkung
A4: Sicherungsgeräte | B4: Smart -einfach- | C4: =INDEX(Materialliste!D:D,MATCH(B4,Materialliste!E:E,0)) -> 0 | D4: =IF(COUNTIF($A$4:A4,IF(A4<>"",A4,B4))>1,"",IFERROR(IF(INDEX(Materialliste!N:N,MATCH(IF(A4<>"",A4,B4),Materialliste!D:D,0))=0,"",INDEX(Materialliste!N:N,MATCH(IF(A4<>"",A4,B4),Materialliste!D:D,0))),""))
A5: Sicherungsgeräte | B5: Tuber-doppelt- | C5: =INDEX(Materialliste!D:D,MATCH(B5,Materialliste!E:E,0)) -> 0 | D5: =IF(COUNTIF($A$4:A5,IF(A5<>"",A5,B5))>1,"",IFERROR(IF(INDEX(Materialliste!N:N,MATCH(IF(A5<>"",A5,B5),Materialliste!D:D,0))=0,"",INDEX(Materialliste!N:N,MATCH(IF(A5<>"",A5,B5),Materialliste!D:D,0))),""))
A6: Sicherungsgeräte | B6: Jul² | C6: =INDEX(Materialliste!F:F,MATCH(B6,Materialliste!G:G,0)) -> 0 | D6: =IF(COUNTIF($A$4:A6,IF(A6<>"",A6,B6))>1,"",IFERROR(IF(INDEX(Materialliste!N:N,MATCH(IF(A6<>"",A6,B6),Materialliste!D:D,0))=0,"",INDEX(Materialliste!N:N,MATCH(IF(A6<>"",A6,B6),Materialliste!D:D,0))),""))
A7: Sicherungsgeräte | B7: Mega-Jul | C7: =INDEX(Materialliste!F:F,MATCH(B7,Materialliste!G:G,0)) -> 0 | D7: =IF(COUNTIF($A$4:A7,IF(A7<>"",A7,B7))>1,"",IFERROR(IF(INDEX(Materialliste!N:N,MATCH(IF(A7<>"",A7,B7),Materialliste!D:D,0))=0,"",INDEX(Materialliste!N:N,MATCH(IF(A7<>"",A7,B7),Materialliste!D:D,0))),""))
A8: Sicherungsgeräte | B8: Pinch | C8: =INDEX(Materialliste!H:H,MATCH(B8,Materialliste!I:I,0)) -> 0 | D8: =IF(COUNTIF($A$4:A8,IF(A8<>"",A8,B8))>1,"",IFERROR(IF(INDEX(Materialliste!N:N,MATCH(IF(A8<>"",A8,B8),Materialliste!D:D,0))=0,"",INDEX(Materialliste!N:N,MATCH(IF(A8<>"",A8,B8),Materialliste!D:D,0))),""))
A9: Sicherungsgeräte | B9: Neox | C9: =INDEX(Materialliste!H:H,MATCH(B9,Materialliste!I:I,0)) -> 0 | D9: =IF(COUNTIF($A$4:A9,IF(A9<>"",A9,B9))>1,"",IFERROR(IF(INDEX(Materialliste!N:N,MATCH(IF(A9<>"",A9,B9),Materialliste!D:D,0))=0,"",INDEX(Materialliste!N:N,MATCH(IF(A9<>"",A9,B9),Materialliste!D:D,0))),""))
A10: Sicherungsgeräte | B10: Reverso | C10: =INDEX(Materialliste!J:J,MATCH(B10,Materialliste!K:K,0)) -> 0 | D10: =IF(COUNTIF($A$4:A10,IF(A10<>"",A10,B10))>1,"",IFERROR(IF(INDEX(Materialliste!N:N,MATCH(IF(A10<>"",A10,B10),Materialliste!D:D,0))=0,"",INDEX(Materialliste!N:N,MATCH(IF(A10<>"",A10,B10),Materialliste!D:D,0))),""))
A11: Sicherungsgeräte | B11: GriGri | C11: =INDEX(Materialliste!L:L,MATCH(B11,Materialliste!M:M,0)) -> 0 | D11: =IF(COUNTIF($A$4:A11,IF(A11<>"",A11,B11))>1,"",IFERROR(IF(INDEX(Materialliste!N:N,MATCH(IF(A11<>"",A11,B11),Materialliste!D:D,0))=0,"",INDEX(Materialliste!N:N,MATCH(IF(A11<>"",A11,B11),Materialliste!D:D,0))),""))
B12: Crashpad | C12: =INDEX(Materialliste!J:J,MATCH(B12,Materialliste!D:D,0)) -> 0 | D12: =IF(COUNTIF($A$4:A12,IF(A12<>"",A12,B12))>1,"",IFERROR(IF(INDEX(Materialliste!N:N,MATCH(IF(A12<>"",A12,B12),Materialliste!D:D,0))=0,"",INDEX(Materialliste!N:N,MATCH(IF(A12<>"",A12,B12),Materialliste!D:D,0))),""))
A13: Karabiner | B13: HMS mit Ball-lock | C13: =INDEX(Materialliste!D:D,MATCH(B13,Materialliste!E:E,0)) -> 0 | D13: =IF(COUNTIF($A$4:A13,IF(A13<>"",A13,B13))>1,"",IFERROR(IF(INDEX(Materialliste!N:N,MATCH(IF(A13<>"",A13,B13),Materialliste!D:D,0))=0,"",INDEX(Materialliste!N:N,MATCH(IF(A13<>"",A13,B13),Materialliste!D:D,0))),""))
A14: Karabiner | B14: HMS Schrauber | C14: =INDEX(Materialliste!D:D,MATCH(B14,Materialliste!E:E,0)) -> 0 | D14: =IF(COUNTIF($A$4:A14,IF(A14<>"",A14,B14))>1,"",IFERROR(IF(INDEX(Materialliste!N:N,MATCH(IF(A14<>"",A14,B14),Materialliste!D:D,0))=0,"",INDEX(Materialliste!N:N,MATCH(IF(A14<>"",A14,B14),Materialliste!D:D,0))),""))
A15: Karabiner | B15: HMS Safe-Biner | C15: =INDEX(Materialliste!F:F,MATCH(B15,Materialliste!G:G,0)) -> 0 | D15: =IF(COUNTIF($A$4:A15,IF(A15<>"",A15,B15))>1,"",IFERROR(IF(INDEX(Materialliste!N:N,MATCH(IF(A15<>"",A15,B15),Materialliste!D:D,0))=0,"",INDEX(Materialliste!N:N,MATCH(IF(A15<>"",A15,B15),Materialliste!D:D,0))),""))
A16: Karabiner | B16: kleiner Schrauber | C16: =INDEX(Materialliste!F:F,MATCH(B16,Materialliste!G:G,0)) -> 0 | D16: =IF(COUNTIF($A$4:A16,IF(A16<>"",A16,B16))>1,"",IFERROR(IF(INDEX(Materialliste!N:N,MATCH(IF(A16<>"",A16,B16),Materialliste!D:D,0))=0,"",INDEX(Materialliste!N:N,MATCH(IF(A16<>"",A16,B16),Materialliste!D:D,0))),""))
A17: Karabiner | B17: oval Safe-Biner | C17: =INDEX(Materialliste!J:J,MATCH(B17,Materialliste!K:K,0)) -> 0 | D17: =IF(COUNTIF($A$4:A17,IF(A17<>"",A17,B17))>1,"",IFERROR(IF(INDEX(Materialliste!N:N,MATCH(IF(A17<>"",A17,B17),Materialliste!D:D,0))=0,"",INDEX(Materialliste!N:N,MATCH(IF(A17<>"",A17,B17),Materialliste!D:D,0))),""))
A18: Karabiner | B18: Schnapper blau | C18: =INDEX(Materialliste!J:J,MATCH(B18,Materialliste!K:K,0)) -> 0
A19: Karabiner | B19: HMS Schrauber Petzl | C19: =INDEX(Materialliste!D:D,MATCH(B19,Materialliste!E:E,0)) -> 0 | D19: =IF(COUNTIF($A$4:A19,IF(A19<>"",A19,B19))>1,"",IFERROR(IF(INDEX(Materialliste!N:N,MATCH(IF(A19<>"",A19,B19),Materialliste!D:D,0))=0,"",INDEX(Materialliste!N:N,MATCH(IF(A19<>"",A19,B19),Materialliste!D:D,0))),""))
A20: Karabiner | B20: Edelrid Schrauber (kein HMS) | C20: =INDEX(Materialliste!D:D,MATCH(B20,Materialliste!E:E,0)) -> 0
A21: Bremsassistent | B21: Ohm 2 | C21: =INDEX(Materialliste!D:D,MATCH(B21,Materialliste!E:E,0)) -> 0 | D21: =IF(COUNTIF($A$4:A21,IF(A21<>"",A21,B21))>1,"",IFERROR(IF(INDEX(Materialliste!N:N,MATCH(IF(A21<>"",A21,B21),Materialliste!D:D,0))=0,"",INDEX(Materialliste!N:N,MATCH(IF(A21<>"",A21,B21),Materialliste!D:D,0))),""))
A22: Bremsassistent | B22: Ohmega | C22: =INDEX(Materialliste!F:F,MATCH(B22,Materialliste!G:G,0)) -> 0 | D22: =IF(COUNTIF($A$4:A22,IF(A22<>"",A22,B22))>1,"",IFERROR(IF(INDEX(Materialliste!N:N,MATCH(IF(A22<>"",A22,B22),Materialliste!D:D,0))=0,"",INDEX(Materialliste!N:N,MATCH(IF(A22<>"",A22,B22),Materialliste!D:D,0))),""))
A23: Expressschlingen | B23: Set(s) a 6 Stk | C23: =INDEX(Materialliste!D:D,MATCH(B23,Materialliste!E:E,0)) -> 0 | D23: =IF(COUNTIF($A$4:A23,IF(A23<>"",A23,B23))>1,"",IFERROR(IF(INDEX(Materialliste!N:N,MATCH(IF(A23<>"",A23,B23),Materialliste!D:D,0))=0,"",INDEX(Materialliste!N:N,MATCH(IF(A23<>"",A23,B23),Materialliste!D:D,0))),""))
A24: Helm | B24: universal | C24: =INDEX(Materialliste!D:D,MATCH(B24,Materialliste!E:E,0)) -> 0 | D24: =IF(COUNTIF($A$4:A24,IF(A24<>"",A24,B24))>1,"",IFERROR(IF(INDEX(Materialliste!N:N,MATCH(IF(A24<>"",A24,B24),Materialliste!D:D,0))=0,"",INDEX(Materialliste!N:N,MATCH(IF(A24<>"",A24,B24),Materialliste!D:D,0))),""))
A25: Helm | B25: (M-L) | C25: =INDEX(Materialliste!F:F,MATCH(B25,Materialliste!G:G,0)) -> 0 | D25: =IF(COUNTIF($A$4:A25,IF(A25<>"",A25,B25))>1,"",IFERROR(IF(INDEX(Materialliste!N:N,MATCH(IF(A25<>"",A25,B25),Materialliste!D:D,0))=0,"",INDEX(Materialliste!N:N,MATCH(IF(A25<>"",A25,B25),Materialliste!D:D,0))),""))
A26: Helm | B26: Edelrid weiß/grün | C26: =INDEX(Materialliste!H:H,MATCH(B26,Materialliste!I:I,0)) -> 0
A27: Bandschlingen | B27: 30 cm Dyneema | C27: =INDEX(Materialliste!D:D,MATCH(B27,Materialliste!E:E,0)) -> 0 | D27: =IF(COUNTIF($A$4:A27,IF(A27<>"",A27,B27))>1,"",IFERROR(IF(INDEX(Materialliste!N:N,MATCH(IF(A27<>"",A27,B27),Materialliste!D:D,0))=0,"",INDEX(Materialliste!N:N,MATCH(IF(A27<>"",A27,B27),Materialliste!D:D,0))),""))
A28: Bandschlingen | B28: 60 cm Dyneema rot/weiß | C28: =INDEX(Materialliste!F:F,MATCH(B28,Materialliste!G:G,0)) -> 0
A29: Bandschlingen | B29: 120 cm Dyneema blau | C29: =INDEX(Materialliste!J:J,MATCH(B29,Materialliste!K:K,0)) -> 0
A30: Bandschlingen | B30: 30 cm Aramid | C30: =INDEX(Materialliste!D:D,MATCH(B30,Materialliste!E:E,0)) -> 0 | D30: =IF(COUNTIF($A$4:A30,IF(A30<>"",A30,B30))>1,"",IFERROR(IF(INDEX(Materialliste!N:N,MATCH(IF(A30<>"",A30,B30),Materialliste!D:D,0))=0,"",INDEX(Materialliste!N:N,MATCH(IF(A30<>"",A30,B30),Materialliste!D:D,0))),""))
A31: Bandschlingen | B31: 60 cm Aramid grün | C31: =INDEX(Materialliste!F:F,MATCH(B31,Materialliste!G:G,0)) -> 0
A32: Bandschlingen | B32: 120 cm Aramid blau | C32: =INDEX(Materialliste!J:J,MATCH(B32,Materialliste!K:K,0)) -> 0
A33: Einfachseile | B33: 60 m Einfachseil Edelrid hellgrün | C33: =INDEX(Materialliste!D:D,MATCH(B33,Materialliste!E:E,0)) -> 0 | D33: =IF(COUNTIF($A$4:A33,IF(A33<>"",A33,B33))>1,"",IFERROR(IF(INDEX(Materialliste!N:N,MATCH(IF(A33<>"",A33,B33),Materialliste!D:D,0))=0,"",INDEX(Materialliste!N:N,MATCH(IF(A33<>"",A33,B33),Materialliste!D:D,0))),""))
A34: Einfachseile | B34: 70 m Einfachseil Petzl 9,8mm blau/weiß kariet | C34: =INDEX(Materialliste!D:D,MATCH(B34,Materialliste!E:E,0)) -> 0 | D34: =IF(COUNTIF($A$4:A34,IF(A34<>"",A34,B34))>1,"",IFERROR(IF(INDEX(Materialliste!N:N,MATCH(IF(A34<>"",A34,B34),Materialliste!D:D,0))=0,"",INDEX(Materialliste!N:N,MATCH(IF(A34<>"",A34,B34),Materialliste!D:D,0))),""))
A35: Halbseile | B35: 50 m Halbseile Mammut 3 fachzertifiziert | C35: =INDEX(Materialliste!D:D,MATCH(B35,Materialliste!E:E,0)) -> 0 | D35: =IF(COUNTIF($A$4:A35,IF(A35<>"",A35,B35))>1,"",IFERROR(IF(INDEX(Materialliste!N:N,MATCH(IF(A35<>"",A35,B35),Materialliste!D:D,0))=0,"",INDEX(Materialliste!N:N,MATCH(IF(A35<>"",A35,B35),Materialliste!D:D,0))),""))
A36: Halbseile | B36: 60 m Halbseile Mammut 3 fachzertifiziert | C36: =INDEX(Materialliste!D:D,MATCH(B36,Materialliste!E:E,0)) -> 0 | D36: =IF(COUNTIF($A$4:A36,IF(A36<>"",A36,B36))>1,"",IFERROR(IF(INDEX(Materialliste!N:N,MATCH(IF(A36<>"",A36,B36),Materialliste!D:D,0))=0,"",INDEX(Materialliste!N:N,MATCH(IF(A36<>"",A36,B36),Materialliste!D:D,0))),""))
A37: Seilsäcke | B37: Edelrid schwarz | C37: =INDEX(Materialliste!D:D,MATCH(B37,Materialliste!E:E,0)) -> 0 | D37: =IF(COUNTIF($A$4:A37,IF(A37<>"",A37,B37))>1,"",IFERROR(IF(INDEX(Materialliste!N:N,MATCH(IF(A37<>"",A37,B37),Materialliste!D:D,0))=0,"",INDEX(Materialliste!N:N,MATCH(IF(A37<>"",A37,B37),Materialliste!D:D,0))),""))
A38: Klettergurt Sitzgurt | B38: mittel - Edelrid grün | C38: =INDEX(Materialliste!D:D,MATCH(B38,Materialliste!E:E,0)) -> 0 | D38: =IF(COUNTIF($A$4:A38,IF(A38<>"",A38,B38))>1,"",IFERROR(IF(INDEX(Materialliste!N:N,MATCH(IF(A38<>"",A38,B38),Materialliste!D:D,0))=0,"",INDEX(Materialliste!N:N,MATCH(IF(A38<>"",A38,B38),Materialliste!D:D,0))),""))
A39: Klettergurt Sitzgurt | B39: groß - Edelrid blau | C39: =INDEX(Materialliste!H:H,MATCH(B39,Materialliste!I:I,0)) -> 0 | D39: =IF(COUNTIF($A$4:A39,IF(A39<>"",A39,B39))>1,"",IFERROR(IF(INDEX(Materialliste!N:N,MATCH(IF(A39<>"",A39,B39),Materialliste!D:D,0))=0,"",INDEX(Materialliste!N:N,MATCH(IF(A39<>"",A39,B39),Materialliste!D:D,0))),""))
A40: Klettergurt Komplettgurt Kind | B40: XXS | C40: =INDEX(Materialliste!D:D,MATCH(B40,Materialliste!E:E,0)) -> 0 | D40: =IF(COUNTIF($A$4:A40,IF(A40<>"",A40,B40))>1,"",IFERROR(IF(INDEX(Materialliste!N:N,MATCH(IF(A40<>"",A40,B40),Materialliste!D:D,0))=0,"",INDEX(Materialliste!N:N,MATCH(IF(A40<>"",A40,B40),Materialliste!D:D,0))),""))
A41: Klettergurt Komplettgurt Kind | B41: XS | C41: =INDEX(Materialliste!F:F,MATCH(B41,Materialliste!G:G,0)) -> 0 | D41: =IF(COUNTIF($A$4:A41,IF(A41<>"",A41,B41))>1,"",IFERROR(IF(INDEX(Materialliste!N:N,MATCH(IF(A41<>"",A41,B41),Materialliste!D:D,0))=0,"",INDEX(Materialliste!N:N,MATCH(IF(A41<>"",A41,B41),Materialliste!D:D,0))),""))
...

Sheet Druck
A1: Materilalübersicht
A3: Kategorie | B3: Artikel | C3: Menge | D3: Bemerkung | E3: vollständig
A4: =IFERROR(INDEX(Auswertung!A$4:A$92,_xlfn.AGGREGATE(15,6,(ROW(Auswertung!$C$4:$C$92)-ROW(Auswertung!$C$4)+1)/(Auswertung!$C$4:$C$92>0),ROWS($A$4:A4))),"") | B4: =IFERROR(INDEX(Auswertung!B$4:B$92,_xlfn.AGGREGATE(15,6,(ROW(Auswertung!$C$4:$C$92)-ROW(Auswertung!$C$4)+1)/(Auswertung!$C$4:$C$92>0),ROWS($A$4:A4))),"") | C4: =IFERROR(INDEX(Auswertung!C$4:C$92,_xlfn.AGGREGATE(15,6,(ROW(Auswertung!$C$4:$C$92)-ROW(Auswertung!$C$4)+1)/(Auswertung!$C$4:$C$92>0),ROWS($A$4:A4))),"" ) | D4: =IF(COUNTIF($A$4:A4,A4)>1,"",IFERROR(INDEX(Auswertung!$D$4:$D$92,MATCH(A4,Auswertung!$A$4:$A$92,0)),""))
A5: =IFERROR(INDEX(Auswertung!A$4:A$92,_xlfn.AGGREGATE(15,6,(ROW(Auswertung!$C$4:$C$92)-ROW(Auswertung!$C$4)+1)/(Auswertung!$C$4:$C$92>0),ROWS($A$4:A5))),"") | B5: =IFERROR(INDEX(Auswertung!B$4:B$92,_xlfn.AGGREGATE(15,6,(ROW(Auswertung!$C$4:$C$92)-ROW(Auswertung!$C$4)+1)/(Auswertung!$C$4:$C$92>0),ROWS($A$4:A5))),"") | C5: =IFERROR(INDEX(Auswertung!C$4:C$92,_xlfn.AGGREGATE(15,6,(ROW(Auswertung!$C$4:$C$92)-ROW(Auswertung!$C$4)+1)/(Auswertung!$C$4:$C$92>0),ROWS($A$4:A5))),"" ) | D5: =IF(COUNTIF($A$4:A5,A5)>1,"",IFERROR(INDEX(Auswertung!$D$4:$D$92,MATCH(A5,Auswertung!$A$4:$A$92,0)),""))
A6: =IFERROR(INDEX(Auswertung!A$4:A$92,_xlfn.AGGREGATE(15,6,(ROW(Auswertung!$C$4:$C$92)-ROW(Auswertung!$C$4)+1)/(Auswertung!$C$4:$C$92>0),ROWS($A$4:A6))),"") | B6: =IFERROR(INDEX(Auswertung!B$4:B$92,_xlfn.AGGREGATE(15,6,(ROW(Auswertung!$C$4:$C$92)-ROW(Auswertung!$C$4)+1)/(Auswertung!$C$4:$C$92>0),ROWS($A$4:A6))),"") | C6: =IFERROR(INDEX(Auswertung!C$4:C$92,_xlfn.AGGREGATE(15,6,(ROW(Auswertung!$C$4:$C$92)-ROW(Auswertung!$C$4)+1)/(Auswertung!$C$4:$C$92>0),ROWS($A$4:A6))),"" ) | D6: =IF(COUNTIF($A$4:A6,A6)>1,"",IFERROR(INDEX(Auswertung!$D$4:$D$92,MATCH(A6,Auswertung!$A$4:$A$92,0)),""))
A7: =IFERROR(INDEX(Auswertung!A$4:A$92,_xlfn.AGGREGATE(15,6,(ROW(Auswertung!$C$4:$C$92)-ROW(Auswertung!$C$4)+1)/(Auswertung!$C$4:$C$92>0),ROWS($A$4:A7))),"") | B7: =IFERROR(INDEX(Auswertung!B$4:B$92,_xlfn.AGGREGATE(15,6,(ROW(Auswertung!$C$4:$C$92)-ROW(Auswertung!$C$4)+1)/(Auswertung!$C$4:$C$92>0),ROWS($A$4:A7))),"") | C7: =IFERROR(INDEX(Auswertung!C$4:C$92,_xlfn.AGGREGATE(15,6,(ROW(Auswertung!$C$4:$C$92)-ROW(Auswertung!$C$4)+1)/(Auswertung!$C$4:$C$92>0),ROWS($A$4:A7))),"" ) | D7: =IF(COUNTIF($A$4:A7,A7)>1,"",IFERROR(INDEX(Auswertung!$D$4:$D$92,MATCH(A7,Auswertung!$A$4:$A$92,0)),""))
A8: =IFERROR(INDEX(Auswertung!A$4:A$92,_xlfn.AGGREGATE(15,6,(ROW(Auswertung!$C$4:$C$92)-ROW(Auswertung!$C$4)+1)/(Auswertung!$C$4:$C$92>0),ROWS($A$4:A8))),"") | B8: =IFERROR(INDEX(Auswertung!B$4:B$92,_xlfn.AGGREGATE(15,6,(ROW(Auswertung!$C$4:$C$92)-ROW(Auswertung!$C$4)+1)/(Auswertung!$C$4:$C$92>0),ROWS($A$4:A8))),"") | C8: =IFERROR(INDEX(Auswertung!C$4:C$92,_xlfn.AGGREGATE(15,6,(ROW(Auswertung!$C$4:$C$92)-ROW(Auswertung!$C$4)+1)/(Auswertung!$C$4:$C$92>0),ROWS($A$4:A8))),"" ) | D8: =IF(COUNTIF($A$4:A8,A8)>1,"",IFERROR(INDEX(Auswertung!$D$4:$D$92,MATCH(A8,Auswertung!$A$4:$A$92,0)),""))
A9: =IFERROR(INDEX(Auswertung!A$4:A$92,_xlfn.AGGREGATE(15,6,(ROW(Auswertung!$C$4:$C$92)-ROW(Auswertung!$C$4)+1)/(Auswertung!$C$4:$C$92>0),ROWS($A$4:A9))),"") | B9: =IFERROR(INDEX(Auswertung!B$4:B$92,_xlfn.AGGREGATE(15,6,(ROW(Auswertung!$C$4:$C$92)-ROW(Auswertung!$C$4)+1)/(Auswertung!$C$4:$C$92>0),ROWS($A$4:A9))),"") | C9: =IFERROR(INDEX(Auswertung!C$4:C$92,_xlfn.AGGREGATE(15,6,(ROW(Auswertung!$C$4:$C$92)-ROW(Auswertung!$C$4)+1)/(Auswertung!$C$4:$C$92>0),ROWS($A$4:A9))),"" ) | D9: =IF(COUNTIF($A$4:A9,A9)>1,"",IFERROR(INDEX(Auswertung!$D$4:$D$92,MATCH(A9,Auswertung!$A$4:$A$92,0)),""))
A10: =IFERROR(INDEX(Auswertung!A$4:A$92,_xlfn.AGGREGATE(15,6,(ROW(Auswertung!$C$4:$C$92)-ROW(Auswertung!$C$4)+1)/(Auswertung!$C$4:$C$92>0),ROWS($A$4:A10))),"") | B10: =IFERROR(INDEX(Auswertung!B$4:B$92,_xlfn.AGGREGATE(15,6,(ROW(Auswertung!$C$4:$C$92)-ROW(Auswertung!$C$4)+1)/(Auswertung!$C$4:$C$92>0),ROWS($A$4:A10))),"") | C10: =IFERROR(INDEX(Auswertung!C$4:C$92,_xlfn.AGGREGATE(15,6,(ROW(Auswertung!$C$4:$C$92)-ROW(Auswertung!$C$4)+1)/(Auswertung!$C$4:$C$92>0),ROWS($A$4:A10))),"" ) | D10: =IF(COUNTIF($A$4:A10,A10)>1,"",IFERROR(INDEX(Auswertung!$D$4:$D$92,MATCH(A10,Auswertung!$A$4:$A$92,0)),""))
A11: =IFERROR(INDEX(Auswertung!A$4:A$92,_xlfn.AGGREGATE(15,6,(ROW(Auswertung!$C$4:$C$92)-ROW(Auswertung!$C$4)+1)/(Auswertung!$C$4:$C$92>0),ROWS($A$4:A11))),"") | B11: =IFERROR(INDEX(Auswertung!B$4:B$92,_xlfn.AGGREGATE(15,6,(ROW(Auswertung!$C$4:$C$92)-ROW(Auswertung!$C$4)+1)/(Auswertung!$C$4:$C$92>0),ROWS($A$4:A11))),"") | C11: =IFERROR(INDEX(Auswertung!C$4:C$92,_xlfn.AGGREGATE(15,6,(ROW(Auswertung!$C$4:$C$92)-ROW(Auswertung!$C$4)+1)/(Auswertung!$C$4:$C$92>0),ROWS($A$4:A11))),"" ) | D11: =IF(COUNTIF($A$4:A11,A11)>1,"",IFERROR(INDEX(Auswertung!$D$4:$D$92,MATCH(A11,Auswertung!$A$4:$A$92,0)),""))
A12: =IFERROR(INDEX(Auswertung!A$4:A$92,_xlfn.AGGREGATE(15,6,(ROW(Auswertung!$C$4:$C$92)-ROW(Auswertung!$C$4)+1)/(Auswertung!$C$4:$C$92>0),ROWS($A$4:A12))),"") | B12: =IFERROR(INDEX(Auswertung!B$4:B$92,_xlfn.AGGREGATE(15,6,(ROW(Auswertung!$C$4:$C$92)-ROW(Auswertung!$C$4)+1)/(Auswertung!$C$4:$C$92>0),ROWS($A$4:A12))),"") | C12: =IFERROR(INDEX(Auswertung!C$4:C$92,_xlfn.AGGREGATE(15,6,(ROW(Auswertung!$C$4:$C$92)-ROW(Auswertung!$C$4)+1)/(Auswertung!$C$4:$C$92>0),ROWS($A$4:A12))),"" ) | D12: =IF(COUNTIF($A$4:A12,A12)>1,"",IFERROR(INDEX(Auswertung!$D$4:$D$92,MATCH(A12,Auswertung!$A$4:$A$92,0)),""))
A13: =IFERROR(INDEX(Auswertung!A$4:A$92,_xlfn.AGGREGATE(15,6,(ROW(Auswertung!$C$4:$C$92)-ROW(Auswertung!$C$4)+1)/(Auswertung!$C$4:$C$92>0),ROWS($A$4:A13))),"") | B13: =IFERROR(INDEX(Auswertung!B$4:B$92,_xlfn.AGGREGATE(15,6,(ROW(Auswertung!$C$4:$C$92)-ROW(Auswertung!$C$4)+1)/(Auswertung!$C$4:$C$92>0),ROWS($A$4:A13))),"") | C13: =IFERROR(INDEX(Auswertung!C$4:C$92,_xlfn.AGGREGATE(15,6,(ROW(Auswertung!$C$4:$C$92)-ROW(Auswertung!$C$4)+1)/(Auswertung!$C$4:$C$92>0),ROWS($A$4:A13))),"" ) | D13: =IF(COUNTIF($A$4:A13,A13)>1,"",IFERROR(INDEX(Auswertung!$D$4:$D$92,MATCH(A13,Auswertung!$A$4:$A$92,0)),""))
A14: =IFERROR(INDEX(Auswertung!A$4:A$92,_xlfn.AGGREGATE(15,6,(ROW(Auswertung!$C$4:$C$92)-ROW(Auswertung!$C$4)+1)/(Auswertung!$C$4:$C$92>0),ROWS($A$4:A14))),"") | B14: =IFERROR(INDEX(Auswertung!B$4:B$92,_xlfn.AGGREGATE(15,6,(ROW(Auswertung!$C$4:$C$92)-ROW(Auswertung!$C$4)+1)/(Auswertung!$C$4:$C$92>0),ROWS($A$4:A14))),"") | C14: =IFERROR(INDEX(Auswertung!C$4:C$92,_xlfn.AGGREGATE(15,6,(ROW(Auswertung!$C$4:$C$92)-ROW(Auswertung!$C$4)+1)/(Auswertung!$C$4:$C$92>0),ROWS($A$4:A14))),"" ) | D14: =IF(COUNTIF($A$4:A14,A14)>1,"",IFERROR(INDEX(Auswertung!$D$4:$D$92,MATCH(A14,Auswertung!$A$4:$A$92,0)),""))
A15: =IFERROR(INDEX(Auswertung!A$4:A$92,_xlfn.AGGREGATE(15,6,(ROW(Auswertung!$C$4:$C$92)-ROW(Auswertung!$C$4)+1)/(Auswertung!$C$4:$C$92>0),ROWS($A$4:A15))),"") | B15: =IFERROR(INDEX(Auswertung!B$4:B$92,_xlfn.AGGREGATE(15,6,(ROW(Auswertung!$C$4:$C$92)-ROW(Auswertung!$C$4)+1)/(Auswertung!$C$4:$C$92>0),ROWS($A$4:A15))),"") | C15: =IFERROR(INDEX(Auswertung!C$4:C$92,_xlfn.AGGREGATE(15,6,(ROW(Auswertung!$C$4:$C$92)-ROW(Auswertung!$C$4)+1)/(Auswertung!$C$4:$C$92>0),ROWS($A$4:A15))),"" ) | D15: =IF(COUNTIF($A$4:A15,A15)>1,"",IFERROR(INDEX(Auswertung!$D$4:$D$92,MATCH(A15,Auswertung!$A$4:$A$92,0)),""))
... A76: =IFERROR(INDEX(Auswertung!A$4:A$92,_xlfn.AGGREGATE(15,6,(ROW(Auswertung!$C$4:$C$92)-ROW(Auswertung!$C$4)+1)/(Auswertung!$C$4:$C$92>0),ROWS($A$4:A76))),"") | B76: =IFERROR(INDEX(Auswertung!B$4:B$92,_xlfn.AGGREGATE(15,6,(ROW(Auswertung!$C$4:$C$92)-ROW(Auswertung!$C$4)+1)/(Auswertung!$C$4:$C$92>0),ROWS($A$4:A76))),"") | C76: =IFERROR(INDEX(Auswertung!C$4:C$92,_xlfn.AGGREGATE(15,6,(ROW(Auswertung!$C$4:$C$92)-ROW(Auswertung!$C$4)+1)/(Auswertung!$C$4:$C$92>0),ROWS($A$4:A76))),"" ) | D76: =IF(COUNTIF($A$4:A76,A76)>1,"",IFERROR(INDEX(Auswertung!$D$4:$D$92,MATCH(A76,Auswertung!$A$4:$A$92,0)),""))
A77: =IFERROR(INDEX(Auswertung!A$4:A$92,_xlfn.AGGREGATE(15,6,(ROW(Auswertung!$C$4:$C$92)-ROW(Auswertung!$C$4)+1)/(Auswertung!$C$4:$C$92>0),ROWS($A$4:A77))),"") | B77: =IFERROR(INDEX(Auswertung!B$4:B$92,_xlfn.AGGREGATE(15,6,(ROW(Auswertung!$C$4:$C$92)-ROW(Auswertung!$C$4)+1)/(Auswertung!$C$4:$C$92>0),ROWS($A$4:A77))),"") | C77: =IFERROR(INDEX(Auswertung!C$4:C$92,_xlfn.AGGREGATE(15,6,(ROW(Auswertung!$C$4:$C$92)-ROW(Auswertung!$C$4)+1)/(Auswertung!$C$4:$C$92>0),ROWS($A$4:A77))),"" ) | D77: =IF(COUNTIF($A$4:A77,A77)>1,"",IFERROR(INDEX(Auswertung!$D$4:$D$92,MATCH(A77,Auswertung!$A$4:$A$92,0)),"")) | J77: Ja
A78: =IFERROR(INDEX(Auswertung!A$4:A$92,_xlfn.AGGREGATE(15,6,(ROW(Auswertung!$C$4:$C$92)-ROW(Auswertung!$C$4)+1)/(Auswertung!$C$4:$C$92>0),ROWS($A$4:A78))),"") | B78: =IFERROR(INDEX(Auswertung!B$4:B$92,_xlfn.AGGREGATE(15,6,(ROW(Auswertung!$C$4:$C$92)-ROW(Auswertung!$C$4)+1)/(Auswertung!$C$4:$C$92>0),ROWS($A$4:A78))),"") | C78: =IFERROR(INDEX(Auswertung!C$4:C$92,_xlfn.AGGREGATE(15,6,(ROW(Auswertung!$C$4:$C$92)-ROW(Auswertung!$C$4)+1)/(Auswertung!$C$4:$C$92>0),ROWS($A$4:A78))),"" ) | D78: =IF(COUNTIF($A$4:A78,A78)>1,"",IFERROR(INDEX(Auswertung!$D$4:$D$92,MATCH(A78,Auswertung!$A$4:$A$92,0)),""))
A79: =IFERROR(INDEX(Auswertung!A$4:A$92,_xlfn.AGGREGATE(15,6,(ROW(Auswertung!$C$4:$C$92)-ROW(Auswertung!$C$4)+1)/(Auswertung!$C$4:$C$92>0),ROWS($A$4:A79))),"") | B79: =IFERROR(INDEX(Auswertung!B$4:B$92,_xlfn.AGGREGATE(15,6,(ROW(Auswertung!$C$4:$C$92)-ROW(Auswertung!$C$4)+1)/(Auswertung!$C$4:$C$92>0),ROWS($A$4:A79))),"") | C79: =IFERROR(INDEX(Auswertung!C$4:C$92,_xlfn.AGGREGATE(15,6,(ROW(Auswertung!$C$4:$C$92)-ROW(Auswertung!$C$4)+1)/(Auswertung!$C$4:$C$92>0),ROWS($A$4:A79))),"" ) | D79: =IF(COUNTIF($A$4:A79,A79)>1,"",IFERROR(INDEX(Auswertung!$D$4:$D$92,MATCH(A79,Auswertung!$A$4:$A$92,0)),""))
A80: =IFERROR(INDEX(Auswertung!A$4:A$92,_xlfn.AGGREGATE(15,6,(ROW(Auswertung!$C$4:$C$92)-ROW(Auswertung!$C$4)+1)/(Auswertung!$C$4:$C$92>0),ROWS($A$4:A80))),"") | B80: =IFERROR(INDEX(Auswertung!B$4:B$92,_xlfn.AGGREGATE(15,6,(ROW(Auswertung!$C$4:$C$92)-ROW(Auswertung!$C$4)+1)/(Auswertung!$C$4:$C$92>0),ROWS($A$4:A80))),"") | C80: =IFERROR(INDEX(Auswertung!C$4:C$92,_xlfn.AGGREGATE(15,6,(ROW(Auswertung!$C$4:$C$92)-ROW(Auswertung!$C$4)+1)/(Auswertung!$C$4:$C$92>0),ROWS($A$4:A80))),"" ) | D80: =IF(COUNTIF($A$4:A80,A80)>1,"",IFERROR(INDEX(Auswertung!$D$4:$D$92,MATCH(A80,Auswertung!$A$4:$A$92,0)),""))
A81: =IFERROR(INDEX(Auswertung!A$4:A$92,_xlfn.AGGREGATE(15,6,(ROW(Auswertung!$C$4:$C$92)-ROW(Auswertung!$C$4)+1)/(Auswertung!$C$4:$C$92>0),ROWS($A$4:A81))),"") | B81: =IFERROR(INDEX(Auswertung!B$4:B$92,_xlfn.AGGREGATE(15,6,(ROW(Auswertung!$C$4:$C$92)-ROW(Auswertung!$C$4)+1)/(Auswertung!$C$4:$C$92>0),ROWS($A$4:A81))),"") | C81: =IFERROR(INDEX(Auswertung!C$4:C$92,_xlfn.AGGREGATE(15,6,(ROW(Auswertung!$C$4:$C$92)-ROW(Auswertung!$C$4)+1)/(Auswertung!$C$4:$C$92>0),ROWS($A$4:A81))),"" ) | D81: =IF(COUNTIF($A$4:A81,A81)>1,"",IFERROR(INDEX(Auswertung!$D$4:$D$92,MATCH(A81,Auswertung!$A$4:$A$92,0)),""))
A82: =IFERROR(INDEX(Auswertung!A$4:A$92,_xlfn.AGGREGATE(15,6,(ROW(Auswertung!$C$4:$C$92)-ROW(Auswertung!$C$4)+1)/(Auswertung!$C$4:$C$92>0),ROWS($A$4:A82))),"") | B82: =IFERROR(INDEX(Auswertung!B$4:B$92,_xlfn.AGGREGATE(15,6,(ROW(Auswertung!$C$4:$C$92)-ROW(Auswertung!$C$4)+1)/(Auswertung!$C$4:$C$92>0),ROWS($A$4:A82))),"") | C82: =IFERROR(INDEX(Auswertung!C$4:C$92,_xlfn.AGGREGATE(15,6,(ROW(Auswertung!$C$4:$C$92)-ROW(Auswertung!$C$4)+1)/(Auswertung!$C$4:$C$92>0),ROWS($A$4:A82))),"" ) | D82: =IF(COUNTIF($A$4:A82,A82)>1,"",IFERROR(INDEX(Auswertung!$D$4:$D$92,MATCH(A82,Auswertung!$A$4:$A$92,0)),""))
A83: =IFERROR(INDEX(Auswertung!A$4:A$92,_xlfn.AGGREGATE(15,6,(ROW(Auswertung!$C$4:$C$92)-ROW(Auswertung!$C$4)+1)/(Auswertung!$C$4:$C$92>0),ROWS($A$4:A83))),"") | B83: =IFERROR(INDEX(Auswertung!B$4:B$92,_xlfn.AGGREGATE(15,6,(ROW(Auswertung!$C$4:$C$92)-ROW(Auswertung!$C$4)+1)/(Auswertung!$C$4:$C$92>0),ROWS($A$4:A83))),"") | C83: =IFERROR(INDEX(Auswertung!C$4:C$92,_xlfn.AGGREGATE(15,6,(ROW(Auswertung!$C$4:$C$92)-ROW(Auswertung!$C$4)+1)/(Auswertung!$C$4:$C$92>0),ROWS($A$4:A83))),"" ) | D83: =IF(COUNTIF($A$4:A83,A83)>1,"",IFERROR(INDEX(Auswertung!$D$4:$D$92,MATCH(A83,Auswertung!$A$4:$A$92,0)),""))
A84: =IFERROR(INDEX(Auswertung!A$4:A$92,_xlfn.AGGREGATE(15,6,(ROW(Auswertung!$C$4:$C$92)-ROW(Auswertung!$C$4)+1)/(Auswertung!$C$4:$C$92>0),ROWS($A$4:A84))),"") | B84: =IFERROR(INDEX(Auswertung!B$4:B$92,_xlfn.AGGREGATE(15,6,(ROW(Auswertung!$C$4:$C$92)-ROW(Auswertung!$C$4)+1)/(Auswertung!$C$4:$C$92>0),ROWS($A$4:A84))),"") | C84: =IFERROR(INDEX(Auswertung!C$4:C$92,_xlfn.AGGREGATE(15,6,(ROW(Auswertung!$C$4:$C$92)-ROW(Auswertung!$C$4)+1)/(Auswertung!$C$4:$C$92>0),ROWS($A$4:A84))),"" ) | D84: =IF(COUNTIF($A$4:A84,A84)>1,"",IFERROR(INDEX(Auswertung!$D$4:$D$92,MATCH(A84,Auswertung!$A$4:$A$92,0)),""))
A85: =IFERROR(INDEX(Auswertung!A$4:A$92,_xlfn.AGGREGATE(15,6,(ROW(Auswertung!$C$4:$C$92)-ROW(Auswertung!$C$4)+1)/(Auswertung!$C$4:$C$92>0),ROWS($A$4:A85))),"") | B85: =IFERROR(INDEX(Auswertung!B$4:B$92,_xlfn.AGGREGATE(15,6,(ROW(Auswertung!$C$4:$C$92)-ROW(Auswertung!$C$4)+1)/(Auswertung!$C$4:$C$92>0),ROWS($A$4:A85))),"") | C85: =IFERROR(INDEX(Auswertung!C$4:C$92,_xlfn.AGGREGATE(15,6,(ROW(Auswertung!$C$4:$C$92)-ROW(Auswertung!$C$4)+1)/(Auswertung!$C$4:$C$92>0),ROWS($A$4:A85))),"" ) | D85: =IF(COUNTIF($A$4:A85,A85)>1,"",IFERROR(INDEX(Auswertung!$D$4:$D$92,MATCH(A85,Auswertung!$A$4:$A$92,0)),""))
A86: =IFERROR(INDEX(Auswertung!A$4:A$92,_xlfn.AGGREGATE(15,6,(ROW(Auswertung!$C$4:$C$92)-ROW(Auswertung!$C$4)+1)/(Auswertung!$C$4:$C$92>0),ROWS($A$4:A86))),"") | B86: =IFERROR(INDEX(Auswertung!B$4:B$92,_xlfn.AGGREGATE(15,6,(ROW(Auswertung!$C$4:$C$92)-ROW(Auswertung!$C$4)+1)/(Auswertung!$C$4:$C$92>0),ROWS($A$4:A86))),"") | C86: =IFERROR(INDEX(Auswertung!C$4:C$92,_xlfn.AGGREGATE(15,6,(ROW(Auswertung!$C$4:$C$92)-ROW(Auswertung!$C$4)+1)/(Auswertung!$C$4:$C$92>0),ROWS($A$4:A86))),"" ) | D86: =IF(COUNTIF($A$4:A86,A86)>1,"",IFERROR(INDEX(Auswertung!$D$4:$D$92,MATCH(A86,Auswertung!$A$4:$A$92,0)),""))
A87: =IFERROR(INDEX(Auswertung!A$4:A$92,_xlfn.AGGREGATE(15,6,(ROW(Auswertung!$C$4:$C$92)-ROW(Auswertung!$C$4)+1)/(Auswertung!$C$4:$C$92>0),ROWS($A$4:A87))),"") | B87: =IFERROR(INDEX(Auswertung!B$4:B$92,_xlfn.AGGREGATE(15,6,(ROW(Auswertung!$C$4:$C$92)-ROW(Auswertung!$C$4)+1)/(Auswertung!$C$4:$C$92>0),ROWS($A$4:A87))),"") | C87: =IFERROR(INDEX(Auswertung!C$4:C$92,_xlfn.AGGREGATE(15,6,(ROW(Auswertung!$C$4:$C$92)-ROW(Auswertung!$C$4)+1)/(Auswertung!$C$4:$C$92>0),ROWS($A$4:A87))),"" ) | D87: =IF(COUNTIF($A$4:A87,A87)>1,"",IFERROR(INDEX(Auswertung!$D$4:$D$92,MATCH(A87,Auswertung!$A$4:$A$92,0)),""))
A88: =IFERROR(INDEX(Auswertung!A$4:A$92,_xlfn.AGGREGATE(15,6,(ROW(Auswertung!$C$4:$C$92)-ROW(Auswertung!$C$4)+1)/(Auswertung!$C$4:$C$92>0),ROWS($A$4:A88))),"") | B88: =IFERROR(INDEX(Auswertung!B$4:B$92,_xlfn.AGGREGATE(15,6,(ROW(Auswertung!$C$4:$C$92)-ROW(Auswertung!$C$4)+1)/(Auswertung!$C$4:$C$92>0),ROWS($A$4:A88))),"") | C88: =IFERROR(INDEX(Auswertung!C$4:C$92,_xlfn.AGGREGATE(15,6,(ROW(Auswertung!$C$4:$C$92)-ROW(Auswertung!$C$4)+1)/(Auswertung!$C$4:$C$92>0),ROWS($A$4:A88))),"" ) | D88: =IF(COUNTIF($A$4:A88,A88)>1,"",IFERROR(INDEX(Auswertung!$D$4:$D$92,MATCH(A88,Auswertung!$A$4:$A$92,0)),""))
A89: =IFERROR(INDEX(Auswertung!A$4:A$92,_xlfn.AGGREGATE(15,6,(ROW(Auswertung!$C$4:$C$92)-ROW(Auswertung!$C$4)+1)/(Auswertung!$C$4:$C$92>0),ROWS($A$4:A89))),"") | B89: =IFERROR(INDEX(Auswertung!B$4:B$92,_xlfn.AGGREGATE(15,6,(ROW(Auswertung!$C$4:$C$92)-ROW(Auswertung!$C$4)+1)/(Auswertung!$C$4:$C$92>0),ROWS($A$4:A89))),"") | C89: =IFERROR(INDEX(Auswertung!C$4:C$92,_xlfn.AGGREGATE(15,6,(ROW(Auswertung!$C$4:$C$92)-ROW(Auswertung!$C$4)+1)/(Auswertung!$C$4:$C$92>0),ROWS($A$4:A89))),"" ) | D89: =IF(COUNTIF($A$4:A89,A89)>1,"",IFERROR(INDEX(Auswertung!$D$4:$D$92,MATCH(A89,Auswertung!$A$4:$A$92,0)),""))
A90: =IFERROR(INDEX(Auswertung!A$4:A$92,_xlfn.AGGREGATE(15,6,(ROW(Auswertung!$C$4:$C$92)-ROW(Auswertung!$C$4)+1)/(Auswertung!$C$4:$C$92>0),ROWS($A$4:A90))),"") | B90: =IFERROR(INDEX(Auswertung!B$4:B$92,_xlfn.AGGREGATE(15,6,(ROW(Auswertung!$C$4:$C$92)-ROW(Auswertung!$C$4)+1)/(Auswertung!$C$4:$C$92>0),ROWS($A$4:A90))),"") | C90: =IFERROR(INDEX(Auswertung!C$4:C$92,_xlfn.AGGREGATE(15,6,(ROW(Auswertung!$C$4:$C$92)-ROW(Auswertung!$C$4)+1)/(Auswertung!$C$4:$C$92>0),ROWS($A$4:A90))),"" ) | D90: =IF(COUNTIF($A$4:A90,A90)>1,"",IFERROR(INDEX(Auswertung!$D$4:$D$92,MATCH(A90,Auswertung!$A$4:$A$92,0)),""))
